BEGIN:VCALENDAR
VERSION:2.0
PRODID:-//West Ealing Library - ECPv6.15.20//NONSGML v1.0//EN
CALSCALE:GREGORIAN
METHOD:PUBLISH
X-ORIGINAL-URL:https://wecl.org.uk
X-WR-CALDESC:Events for West Ealing Library
REFRESH-INTERVAL;VALUE=DURATION:PT1H
X-Robots-Tag:noindex
X-PUBLISHED-TTL:PT1H
BEGIN:VTIMEZONE
TZID:UTC
BEGIN:STANDARD
TZOFFSETFROM:+0000
TZOFFSETTO:+0000
TZNAME:UTC
DTSTART:20230101T000000
END:STANDARD
END:VTIMEZONE
BEGIN:VEVENT
DTSTART;TZID=UTC:20241224T080000
DTEND;TZID=UTC:20241224T170000
DTSTAMP:20260421T104120
CREATED:20241206T121808Z
LAST-MODIFIED:20241206T121808Z
UID:10000178-1735027200-1735059600@wecl.org.uk
SUMMARY:Holiday Closure Notice
DESCRIPTION:Dear visitors\, \nThe library will be closed for the holiday season. All activities will resume next year. \nWe appreciate your support throughout the year and look forward to welcoming you back in the new year! \nHappy Holidays from the library team!
URL:https://wecl.org.uk/activities-and-events/holiday-closure-notice/
END:VEVENT
BEGIN:VEVENT
DTSTART;TZID=UTC:20241225T080000
DTEND;TZID=UTC:20241225T170000
DTSTAMP:20260421T104120
CREATED:20241206T121837Z
LAST-MODIFIED:20241206T121837Z
UID:10000180-1735113600-1735146000@wecl.org.uk
SUMMARY:Holiday Closure Notice
DESCRIPTION:Dear visitors\, \nThe library will be closed for the holiday season. All activities will resume next year. \nWe appreciate your support throughout the year and look forward to welcoming you back in the new year! \nHappy Holidays from the library team!
URL:https://wecl.org.uk/activities-and-events/holiday-closure-notice-2/
END:VEVENT
BEGIN:VEVENT
DTSTART;TZID=UTC:20241225T100000
DTEND;TZID=UTC:20241225T120000
DTSTAMP:20260421T104120
CREATED:20250705T133058Z
LAST-MODIFIED:20260207T220431Z
UID:10001572-1735120800-1735128000@wecl.org.uk
SUMMARY:Volunteering Drop-In Sessions
DESCRIPTION:🌟 Join Our Volunteering Drop-In Sessions! by EHCVS 🌟\nExplore rewarding volunteer opportunities at West Ealing Library every Wednesday!\n🗓 When: Wednesdays\n🕒 Time: 10:00 AM – 12:00 PM\n📍 Where: West Ealing Library\nWhat You’ll Get:\nLearn about volunteering\nFind the right role\nGet help with enquiries\nCome by and start your journey of making a positive impact today! 🌍💪 \nFollow us for updates:🌐 Website | 📸 Instagram | 👍 Facebook | 🐦 X (Twitter) | 💼 LinkedIn
URL:https://wecl.org.uk/activities-and-events/volunteering-drop-in-sessions-33-2/2024-12-25/
LOCATION:West Ealing Community Library\, Melbourne Ave\, West Ealing\, London\, W13 9BT\, United Kingdom
CATEGORIES:Adults
ATTACH;FMTTYPE=image/png:https://wecl.org.uk/wp-content/uploads/2024/08/Untitled-design-4.png
END:VEVENT
BEGIN:VEVENT
DTSTART;TZID=UTC:20241226T080000
DTEND;TZID=UTC:20241226T170000
DTSTAMP:20260421T104120
CREATED:20241206T121848Z
LAST-MODIFIED:20241206T121848Z
UID:10000179-1735200000-1735232400@wecl.org.uk
SUMMARY:Holiday Closure Notice
DESCRIPTION:Dear visitors\, \nThe library will be closed for the holiday season. All activities will resume next year. \nWe appreciate your support throughout the year and look forward to welcoming you back in the new year! \nHappy Holidays from the library team!
URL:https://wecl.org.uk/activities-and-events/holiday-closure-notice-3/
END:VEVENT
BEGIN:VEVENT
DTSTART;TZID=UTC:20241227T080000
DTEND;TZID=UTC:20241227T170000
DTSTAMP:20260421T104120
CREATED:20241206T121855Z
LAST-MODIFIED:20241206T121855Z
UID:10000181-1735286400-1735318800@wecl.org.uk
SUMMARY:Holiday Closure Notice
DESCRIPTION:Dear visitors\, \nThe library will be closed for the holiday season. All activities will resume next year. \nWe appreciate your support throughout the year and look forward to welcoming you back in the new year! \nHappy Holidays from the library team!
URL:https://wecl.org.uk/activities-and-events/holiday-closure-notice-4/
END:VEVENT
END:VCALENDAR