BEGIN:VCALENDAR
VERSION:2.0
PRODID:-//West Ealing Library - ECPv6.15.20//NONSGML v1.0//EN
CALSCALE:GREGORIAN
METHOD:PUBLISH
X-WR-CALNAME:West Ealing Library
X-ORIGINAL-URL:https://wecl.org.uk
X-WR-CALDESC:Events for West Ealing Library
REFRESH-INTERVAL;VALUE=DURATION:PT1H
X-Robots-Tag:noindex
X-PUBLISHED-TTL:PT1H
BEGIN:VTIMEZONE
TZID:UTC
BEGIN:STANDARD
TZOFFSETFROM:+0000
TZOFFSETTO:+0000
TZNAME:UTC
DTSTART:20250101T000000
END:STANDARD
END:VTIMEZONE
BEGIN:VEVENT
DTSTART;TZID=UTC:20260415T102500
DTEND;TZID=UTC:20260415T114500
DTSTAMP:20260423T153214
CREATED:20250531T214917Z
LAST-MODIFIED:20260326T191709Z
UID:10001743-1776248700-1776253500@wecl.org.uk
SUMMARY:Drawing Workshop
DESCRIPTION:Unleash Your Creativity at Our Drawing Workshop! \n\n\n\nReady to enhance your sketching skills? Join us at West Ealing Library for our FREE drawing workshop every Wednesday! \n\nWhen: Wednesdays\nTime: 10:25 AM – 11:45 AM\nWhere: West Ealing Library\, Melbourne Avenue\n\nWhether you’re a beginner or looking to refine your techniques\, this workshop is perfect for all ages. Enjoy a supportive environment and bring your artistic vision to life! \nDon’t miss this opportunity to express yourself through art! \n\n\nFollow us for updates:
URL:https://wecl.org.uk/activities-and-events/drawing-workshop-40/2026-04-15/
LOCATION:West Ealing Community Library\, Melbourne Ave\, West Ealing\, London\, W13 9BT\, United Kingdom
CATEGORIES:Activities,Adults,Drawing Workshop,Hobbies and games Event
ATTACH;FMTTYPE=image/png:https://wecl.org.uk/wp-content/uploads/2024/08/Copy-of-Brown-Illustration-Drawing-Workshop-Instagram-Post-1.png
END:VEVENT
BEGIN:VEVENT
DTSTART;TZID=UTC:20260415T110000
DTEND;TZID=UTC:20260415T120000
DTSTAMP:20260423T153214
CREATED:20250503T095522Z
LAST-MODIFIED:20260326T193633Z
UID:10000765-1776250800-1776254400@wecl.org.uk
SUMMARY:Carers Café Drop-in Sessions
DESCRIPTION:Carers Café Drop-in Sessions at West Ealing Library! 🌟 \nAre you an unpaid carer in Ealing? You’re not alone! Join us at the Carers Café drop-in sessions\, hosted at West Ealing Library by the @Ealingcarerspartnership \, where we come together to support and uplift each other. Whether you need advice\, a friendly chat\, or simply a break\, we’re here for you! \nWhy Attend? \nLearn about the support available for unpaid carers\nShare your experiences and connect with others in similar situations\nRelax in a welcoming and supportive environment \n🕙 Time: Every third Wednesday of the month\, 11:00 AM – 12:30 PM\n📍 Location: West Ealing Library\, Melbourne Ave\, Ealing\, London W13 9BT \n  \nFollow us for updates: \n\n\n\n\n\n\n\n\n\n\n\n 
URL:https://wecl.org.uk/activities-and-events/carers-cafe-drop-in-sessions-7/2026-04-15/
LOCATION:West Ealing Community Library\, Melbourne Ave\, West Ealing\, London\, W13 9BT\, United Kingdom
CATEGORIES:Adults
ATTACH;FMTTYPE=image/jpeg:https://wecl.org.uk/wp-content/uploads/2024/08/Carer-Cafes-Instagram-Post.jpg
END:VEVENT
BEGIN:VEVENT
DTSTART;TZID=UTC:20260415T120000
DTEND;TZID=UTC:20260415T140000
DTSTAMP:20260423T153214
CREATED:20250531T215013Z
LAST-MODIFIED:20260326T191759Z
UID:10001899-1776254400-1776261600@wecl.org.uk
SUMMARY:Tapestry Weaving
DESCRIPTION:🧶🧵 Weave Your Dreams at West Ealing Library! 🧵🧶 \nReady to get creative? Join us every Wednesday for an exciting journey into the world of tapestry weaving! \n🗓 When: \nWednesdays: 12:00 PM – 2:00 PM \n📍 Where: West Ealing Library\, Melbourne Avenue \nWhy You’ll Love It: \n\nCreate Masterpieces: Transform yarn into beautiful tapestries\nLearn New Techniques: Perfect for all skill levels\nInspire Your Imagination: Bring your unique designs to life\n\nCome and experience the joy of creating beautiful woven art in a welcoming environment. Don’t miss your chance to bring your tapestry dreams to life! \n🌟✨ Let your creativity flow and weave something wonderful! ✨🌟 \nFollow us for updates: \n\n\n\n\n\n\n\n\n\n\n\n 
URL:https://wecl.org.uk/activities-and-events/tapestry-weaving-40/2026-04-15/
LOCATION:West Ealing Community Library\, Melbourne Ave\, West Ealing\, London\, W13 9BT\, United Kingdom
CATEGORIES:Activities,Adults,Tapestry Weaving
ATTACH;FMTTYPE=image/png:https://wecl.org.uk/wp-content/uploads/2024/08/Brown-Cream-Minimalist-Rug-Custom-Promotion-Instagram-Post-1.png
END:VEVENT
BEGIN:VEVENT
DTSTART;TZID=UTC:20260416T123000
DTEND;TZID=UTC:20260416T124500
DTSTAMP:20260423T153214
CREATED:20250531T215721Z
LAST-MODIFIED:20260326T191930Z
UID:10002233-1776342600-1776343500@wecl.org.uk
SUMMARY:Toddler & Children’s Arts and Crafts
DESCRIPTION:🖍️✂️  Toddler & Children’s Arts and Crafts Session at West Ealing Library ✂️🖍️ \nJoin us for a fun weekly arts and crafts drop-in session\, led by Safia\, and aimed at toddlers and young children. \n🗓 When: Thursdays (starting 19th March)🕒 Time: 12:30 PM – 2:00 PM📍 Where: West Ealing Library\, Melbourne Avenue \nCome along and enjoy a creative session where little ones can explore arts and crafts in a friendly space. 🎨 \nJoin us for a morning of imaginative activities and hands-on projects. Perfect for kids to explore their creativity and make new friends! \nFollow us for updates: \n\n\n\n\n\n\n\n\n\n\n\n 
URL:https://wecl.org.uk/activities-and-events/childrens-arts-and-crafts-37/2026-04-16/
LOCATION:West Ealing Community Library\, Melbourne Ave\, West Ealing\, London\, W13 9BT\, United Kingdom
CATEGORIES:Activities,Art and craft,Kids
ATTACH;FMTTYPE=image/png:https://wecl.org.uk/wp-content/uploads/2025/05/Green-Blue-ColorPlayful-Craft-Class-for-Kids-Classroom-Poster.png
END:VEVENT
BEGIN:VEVENT
DTSTART;TZID=UTC:20260417T100000
DTEND;TZID=UTC:20260417T110000
DTSTAMP:20260423T153214
CREATED:20250531T215329Z
LAST-MODIFIED:20260326T191959Z
UID:10001353-1776420000-1776423600@wecl.org.uk
SUMMARY:Free English Classes
DESCRIPTION:Improve your English with our two specialized classes designed for adults whose first language is not English. \nEvery Friday\n⏰ 10:00 AM – 11:00 AM\nWhat You’ll Learn:\n✅ Basic pronunciation\n✅ Introductions and greetings\n✅ Weather\, dates\, and appointments\n✅ Food\, shopping\, and restaurants\n✅ Money and numbers\n✅ Family and relationships\n✅ Places in London and the UK\n📍 Where: West Ealing Community Library \nTake this opportunity to boost your English\, whether you’re looking to build your vocabulary or improve your speaking skills! 🌟 \nFollow us for updates:
URL:https://wecl.org.uk/activities-and-events/free-english-classes-32/2026-04-17/
LOCATION:West Ealing Community Library\, Melbourne Ave\, West Ealing\, London\, W13 9BT\, United Kingdom
CATEGORIES:Adults,English Classess
ATTACH;FMTTYPE=image/png:https://wecl.org.uk/wp-content/uploads/2025/01/Orange-Black-Digital-Marketing-Agency-Instagram-Post.png
END:VEVENT
END:VCALENDAR