BEGIN:VCALENDAR
VERSION:2.0
PRODID:-//West Ealing Library - ECPv6.15.20//NONSGML v1.0//EN
CALSCALE:GREGORIAN
METHOD:PUBLISH
X-WR-CALNAME:West Ealing Library
X-ORIGINAL-URL:https://wecl.org.uk
X-WR-CALDESC:Events for West Ealing Library
REFRESH-INTERVAL;VALUE=DURATION:PT1H
X-Robots-Tag:noindex
X-PUBLISHED-TTL:PT1H
BEGIN:VTIMEZONE
TZID:UTC
BEGIN:STANDARD
TZOFFSETFROM:+0000
TZOFFSETTO:+0000
TZNAME:UTC
DTSTART:20250101T000000
END:STANDARD
END:VTIMEZONE
BEGIN:VEVENT
DTSTART;TZID=UTC:20260520T102500
DTEND;TZID=UTC:20260520T114500
DTSTAMP:20260423T211236
CREATED:20250531T214917Z
LAST-MODIFIED:20260326T191709Z
UID:10001748-1779272700-1779277500@wecl.org.uk
SUMMARY:Drawing Workshop
DESCRIPTION:Unleash Your Creativity at Our Drawing Workshop! \n\n\n\nReady to enhance your sketching skills? Join us at West Ealing Library for our FREE drawing workshop every Wednesday! \n\nWhen: Wednesdays\nTime: 10:25 AM – 11:45 AM\nWhere: West Ealing Library\, Melbourne Avenue\n\nWhether you’re a beginner or looking to refine your techniques\, this workshop is perfect for all ages. Enjoy a supportive environment and bring your artistic vision to life! \nDon’t miss this opportunity to express yourself through art! \n\n\nFollow us for updates:
URL:https://wecl.org.uk/activities-and-events/drawing-workshop-40/2026-05-20/
LOCATION:West Ealing Community Library\, Melbourne Ave\, West Ealing\, London\, W13 9BT\, United Kingdom
CATEGORIES:Activities,Adults,Drawing Workshop,Hobbies and games Event
ATTACH;FMTTYPE=image/png:https://wecl.org.uk/wp-content/uploads/2024/08/Copy-of-Brown-Illustration-Drawing-Workshop-Instagram-Post-1.png
END:VEVENT
BEGIN:VEVENT
DTSTART;TZID=UTC:20260520T110000
DTEND;TZID=UTC:20260520T120000
DTSTAMP:20260423T211236
CREATED:20250503T095522Z
LAST-MODIFIED:20260326T193633Z
UID:10000766-1779274800-1779278400@wecl.org.uk
SUMMARY:Carers Café Drop-in Sessions
DESCRIPTION:Carers Café Drop-in Sessions at West Ealing Library! 🌟 \nAre you an unpaid carer in Ealing? You’re not alone! Join us at the Carers Café drop-in sessions\, hosted at West Ealing Library by the @Ealingcarerspartnership \, where we come together to support and uplift each other. Whether you need advice\, a friendly chat\, or simply a break\, we’re here for you! \nWhy Attend? \nLearn about the support available for unpaid carers\nShare your experiences and connect with others in similar situations\nRelax in a welcoming and supportive environment \n🕙 Time: Every third Wednesday of the month\, 11:00 AM – 12:30 PM\n📍 Location: West Ealing Library\, Melbourne Ave\, Ealing\, London W13 9BT \n  \nFollow us for updates: \n\n\n\n\n\n\n\n\n\n\n\n 
URL:https://wecl.org.uk/activities-and-events/carers-cafe-drop-in-sessions-7/2026-05-20/
LOCATION:West Ealing Community Library\, Melbourne Ave\, West Ealing\, London\, W13 9BT\, United Kingdom
CATEGORIES:Adults
ATTACH;FMTTYPE=image/jpeg:https://wecl.org.uk/wp-content/uploads/2024/08/Carer-Cafes-Instagram-Post.jpg
END:VEVENT
BEGIN:VEVENT
DTSTART;TZID=UTC:20260520T120000
DTEND;TZID=UTC:20260520T140000
DTSTAMP:20260423T211236
CREATED:20250531T215013Z
LAST-MODIFIED:20260326T191759Z
UID:10001904-1779278400-1779285600@wecl.org.uk
SUMMARY:Tapestry Weaving
DESCRIPTION:🧶🧵 Weave Your Dreams at West Ealing Library! 🧵🧶 \nReady to get creative? Join us every Wednesday for an exciting journey into the world of tapestry weaving! \n🗓 When: \nWednesdays: 12:00 PM – 2:00 PM \n📍 Where: West Ealing Library\, Melbourne Avenue \nWhy You’ll Love It: \n\nCreate Masterpieces: Transform yarn into beautiful tapestries\nLearn New Techniques: Perfect for all skill levels\nInspire Your Imagination: Bring your unique designs to life\n\nCome and experience the joy of creating beautiful woven art in a welcoming environment. Don’t miss your chance to bring your tapestry dreams to life! \n🌟✨ Let your creativity flow and weave something wonderful! ✨🌟 \nFollow us for updates: \n\n\n\n\n\n\n\n\n\n\n\n 
URL:https://wecl.org.uk/activities-and-events/tapestry-weaving-40/2026-05-20/
LOCATION:West Ealing Community Library\, Melbourne Ave\, West Ealing\, London\, W13 9BT\, United Kingdom
CATEGORIES:Activities,Adults,Tapestry Weaving
ATTACH;FMTTYPE=image/png:https://wecl.org.uk/wp-content/uploads/2024/08/Brown-Cream-Minimalist-Rug-Custom-Promotion-Instagram-Post-1.png
END:VEVENT
END:VCALENDAR