BEGIN:VCALENDAR
VERSION:2.0
PRODID:-//West Ealing Library - ECPv6.15.20//NONSGML v1.0//EN
CALSCALE:GREGORIAN
METHOD:PUBLISH
X-WR-CALNAME:West Ealing Library
X-ORIGINAL-URL:https://wecl.org.uk
X-WR-CALDESC:Events for West Ealing Library
REFRESH-INTERVAL;VALUE=DURATION:PT1H
X-Robots-Tag:noindex
X-PUBLISHED-TTL:PT1H
BEGIN:VTIMEZONE
TZID:UTC
BEGIN:STANDARD
TZOFFSETFROM:+0000
TZOFFSETTO:+0000
TZNAME:UTC
DTSTART:20250101T000000
END:STANDARD
END:VTIMEZONE
BEGIN:VEVENT
DTSTART;TZID=UTC:20260424T103000
DTEND;TZID=UTC:20260424T113000
DTSTAMP:20260421T064753
CREATED:20250531T215846Z
LAST-MODIFIED:20260326T191552Z
UID:10001144-1777026600-1777030200@wecl.org.uk
SUMMARY:Baby & Toddler Story Time
DESCRIPTION:Baby & Toddler Story Time at West Ealing Library! \n\n\nBring your little ones for a magical hour of stories every Friday!\n\n\n When: Fridays\n Time: 10:30 AM – 11:30 AM\n Where: West Ealing Library\, Melbourne Avenue\n\n\nEnjoy interactive tales\, fun activities\, and meet other families.\n\n\nJoin us and spark a love for reading! \n\n\n\nFollow us for updates:
URL:https://wecl.org.uk/activities-and-events/baby-toddler-story-time-36/2026-04-24/
LOCATION:West Ealing Community Library\, Melbourne Ave\, West Ealing\, London\, W13 9BT\, United Kingdom
CATEGORIES:Activities
ATTACH;FMTTYPE=image/png:https://wecl.org.uk/wp-content/uploads/2024/08/Story-time-.png
END:VEVENT
BEGIN:VEVENT
DTSTART;TZID=UTC:20260501T103000
DTEND;TZID=UTC:20260501T113000
DTSTAMP:20260421T064753
CREATED:20250531T215846Z
LAST-MODIFIED:20260326T191552Z
UID:10001145-1777631400-1777635000@wecl.org.uk
SUMMARY:Baby & Toddler Story Time
DESCRIPTION:Baby & Toddler Story Time at West Ealing Library! \n\n\nBring your little ones for a magical hour of stories every Friday!\n\n\n When: Fridays\n Time: 10:30 AM – 11:30 AM\n Where: West Ealing Library\, Melbourne Avenue\n\n\nEnjoy interactive tales\, fun activities\, and meet other families.\n\n\nJoin us and spark a love for reading! \n\n\n\nFollow us for updates:
URL:https://wecl.org.uk/activities-and-events/baby-toddler-story-time-36/2026-05-01/
LOCATION:West Ealing Community Library\, Melbourne Ave\, West Ealing\, London\, W13 9BT\, United Kingdom
CATEGORIES:Activities
ATTACH;FMTTYPE=image/png:https://wecl.org.uk/wp-content/uploads/2024/08/Story-time-.png
END:VEVENT
BEGIN:VEVENT
DTSTART;TZID=UTC:20260508T103000
DTEND;TZID=UTC:20260508T113000
DTSTAMP:20260421T064753
CREATED:20250531T215846Z
LAST-MODIFIED:20260326T191552Z
UID:10001146-1778236200-1778239800@wecl.org.uk
SUMMARY:Baby & Toddler Story Time
DESCRIPTION:Baby & Toddler Story Time at West Ealing Library! \n\n\nBring your little ones for a magical hour of stories every Friday!\n\n\n When: Fridays\n Time: 10:30 AM – 11:30 AM\n Where: West Ealing Library\, Melbourne Avenue\n\n\nEnjoy interactive tales\, fun activities\, and meet other families.\n\n\nJoin us and spark a love for reading! \n\n\n\nFollow us for updates:
URL:https://wecl.org.uk/activities-and-events/baby-toddler-story-time-36/2026-05-08/
LOCATION:West Ealing Community Library\, Melbourne Ave\, West Ealing\, London\, W13 9BT\, United Kingdom
CATEGORIES:Activities
ATTACH;FMTTYPE=image/png:https://wecl.org.uk/wp-content/uploads/2024/08/Story-time-.png
END:VEVENT
BEGIN:VEVENT
DTSTART;TZID=UTC:20260515T103000
DTEND;TZID=UTC:20260515T113000
DTSTAMP:20260421T064753
CREATED:20250531T215846Z
LAST-MODIFIED:20260326T191552Z
UID:10001147-1778841000-1778844600@wecl.org.uk
SUMMARY:Baby & Toddler Story Time
DESCRIPTION:Baby & Toddler Story Time at West Ealing Library! \n\n\nBring your little ones for a magical hour of stories every Friday!\n\n\n When: Fridays\n Time: 10:30 AM – 11:30 AM\n Where: West Ealing Library\, Melbourne Avenue\n\n\nEnjoy interactive tales\, fun activities\, and meet other families.\n\n\nJoin us and spark a love for reading! \n\n\n\nFollow us for updates:
URL:https://wecl.org.uk/activities-and-events/baby-toddler-story-time-36/2026-05-15/
LOCATION:West Ealing Community Library\, Melbourne Ave\, West Ealing\, London\, W13 9BT\, United Kingdom
CATEGORIES:Activities
ATTACH;FMTTYPE=image/png:https://wecl.org.uk/wp-content/uploads/2024/08/Story-time-.png
END:VEVENT
BEGIN:VEVENT
DTSTART;TZID=UTC:20260522T103000
DTEND;TZID=UTC:20260522T113000
DTSTAMP:20260421T064753
CREATED:20250531T215846Z
LAST-MODIFIED:20260326T191552Z
UID:10001148-1779445800-1779449400@wecl.org.uk
SUMMARY:Baby & Toddler Story Time
DESCRIPTION:Baby & Toddler Story Time at West Ealing Library! \n\n\nBring your little ones for a magical hour of stories every Friday!\n\n\n When: Fridays\n Time: 10:30 AM – 11:30 AM\n Where: West Ealing Library\, Melbourne Avenue\n\n\nEnjoy interactive tales\, fun activities\, and meet other families.\n\n\nJoin us and spark a love for reading! \n\n\n\nFollow us for updates:
URL:https://wecl.org.uk/activities-and-events/baby-toddler-story-time-36/2026-05-22/
LOCATION:West Ealing Community Library\, Melbourne Ave\, West Ealing\, London\, W13 9BT\, United Kingdom
CATEGORIES:Activities
ATTACH;FMTTYPE=image/png:https://wecl.org.uk/wp-content/uploads/2024/08/Story-time-.png
END:VEVENT
BEGIN:VEVENT
DTSTART;TZID=UTC:20260529T103000
DTEND;TZID=UTC:20260529T113000
DTSTAMP:20260421T064753
CREATED:20250531T215846Z
LAST-MODIFIED:20260326T191552Z
UID:10001149-1780050600-1780054200@wecl.org.uk
SUMMARY:Baby & Toddler Story Time
DESCRIPTION:Baby & Toddler Story Time at West Ealing Library! \n\n\nBring your little ones for a magical hour of stories every Friday!\n\n\n When: Fridays\n Time: 10:30 AM – 11:30 AM\n Where: West Ealing Library\, Melbourne Avenue\n\n\nEnjoy interactive tales\, fun activities\, and meet other families.\n\n\nJoin us and spark a love for reading! \n\n\n\nFollow us for updates:
URL:https://wecl.org.uk/activities-and-events/baby-toddler-story-time-36/2026-05-29/
LOCATION:West Ealing Community Library\, Melbourne Ave\, West Ealing\, London\, W13 9BT\, United Kingdom
CATEGORIES:Activities
ATTACH;FMTTYPE=image/png:https://wecl.org.uk/wp-content/uploads/2024/08/Story-time-.png
END:VEVENT
BEGIN:VEVENT
DTSTART;TZID=UTC:20260605T103000
DTEND;TZID=UTC:20260605T113000
DTSTAMP:20260421T064753
CREATED:20250531T215846Z
LAST-MODIFIED:20260326T191552Z
UID:10001150-1780655400-1780659000@wecl.org.uk
SUMMARY:Baby & Toddler Story Time
DESCRIPTION:Baby & Toddler Story Time at West Ealing Library! \n\n\nBring your little ones for a magical hour of stories every Friday!\n\n\n When: Fridays\n Time: 10:30 AM – 11:30 AM\n Where: West Ealing Library\, Melbourne Avenue\n\n\nEnjoy interactive tales\, fun activities\, and meet other families.\n\n\nJoin us and spark a love for reading! \n\n\n\nFollow us for updates:
URL:https://wecl.org.uk/activities-and-events/baby-toddler-story-time-36/2026-06-05/
LOCATION:West Ealing Community Library\, Melbourne Ave\, West Ealing\, London\, W13 9BT\, United Kingdom
CATEGORIES:Activities
ATTACH;FMTTYPE=image/png:https://wecl.org.uk/wp-content/uploads/2024/08/Story-time-.png
END:VEVENT
BEGIN:VEVENT
DTSTART;TZID=UTC:20260612T103000
DTEND;TZID=UTC:20260612T113000
DTSTAMP:20260421T064753
CREATED:20250531T215846Z
LAST-MODIFIED:20260326T191552Z
UID:10001151-1781260200-1781263800@wecl.org.uk
SUMMARY:Baby & Toddler Story Time
DESCRIPTION:Baby & Toddler Story Time at West Ealing Library! \n\n\nBring your little ones for a magical hour of stories every Friday!\n\n\n When: Fridays\n Time: 10:30 AM – 11:30 AM\n Where: West Ealing Library\, Melbourne Avenue\n\n\nEnjoy interactive tales\, fun activities\, and meet other families.\n\n\nJoin us and spark a love for reading! \n\n\n\nFollow us for updates:
URL:https://wecl.org.uk/activities-and-events/baby-toddler-story-time-36/2026-06-12/
LOCATION:West Ealing Community Library\, Melbourne Ave\, West Ealing\, London\, W13 9BT\, United Kingdom
CATEGORIES:Activities
ATTACH;FMTTYPE=image/png:https://wecl.org.uk/wp-content/uploads/2024/08/Story-time-.png
END:VEVENT
BEGIN:VEVENT
DTSTART;TZID=UTC:20260619T103000
DTEND;TZID=UTC:20260619T113000
DTSTAMP:20260421T064753
CREATED:20250531T215846Z
LAST-MODIFIED:20260326T191552Z
UID:10001152-1781865000-1781868600@wecl.org.uk
SUMMARY:Baby & Toddler Story Time
DESCRIPTION:Baby & Toddler Story Time at West Ealing Library! \n\n\nBring your little ones for a magical hour of stories every Friday!\n\n\n When: Fridays\n Time: 10:30 AM – 11:30 AM\n Where: West Ealing Library\, Melbourne Avenue\n\n\nEnjoy interactive tales\, fun activities\, and meet other families.\n\n\nJoin us and spark a love for reading! \n\n\n\nFollow us for updates:
URL:https://wecl.org.uk/activities-and-events/baby-toddler-story-time-36/2026-06-19/
LOCATION:West Ealing Community Library\, Melbourne Ave\, West Ealing\, London\, W13 9BT\, United Kingdom
CATEGORIES:Activities
ATTACH;FMTTYPE=image/png:https://wecl.org.uk/wp-content/uploads/2024/08/Story-time-.png
END:VEVENT
BEGIN:VEVENT
DTSTART;TZID=UTC:20260626T103000
DTEND;TZID=UTC:20260626T113000
DTSTAMP:20260421T064753
CREATED:20250531T215846Z
LAST-MODIFIED:20260326T191552Z
UID:10001153-1782469800-1782473400@wecl.org.uk
SUMMARY:Baby & Toddler Story Time
DESCRIPTION:Baby & Toddler Story Time at West Ealing Library! \n\n\nBring your little ones for a magical hour of stories every Friday!\n\n\n When: Fridays\n Time: 10:30 AM – 11:30 AM\n Where: West Ealing Library\, Melbourne Avenue\n\n\nEnjoy interactive tales\, fun activities\, and meet other families.\n\n\nJoin us and spark a love for reading! \n\n\n\nFollow us for updates:
URL:https://wecl.org.uk/activities-and-events/baby-toddler-story-time-36/2026-06-26/
LOCATION:West Ealing Community Library\, Melbourne Ave\, West Ealing\, London\, W13 9BT\, United Kingdom
CATEGORIES:Activities
ATTACH;FMTTYPE=image/png:https://wecl.org.uk/wp-content/uploads/2024/08/Story-time-.png
END:VEVENT
BEGIN:VEVENT
DTSTART;TZID=UTC:20260703T103000
DTEND;TZID=UTC:20260703T113000
DTSTAMP:20260421T064753
CREATED:20250531T215846Z
LAST-MODIFIED:20260326T191552Z
UID:10001154-1783074600-1783078200@wecl.org.uk
SUMMARY:Baby & Toddler Story Time
DESCRIPTION:Baby & Toddler Story Time at West Ealing Library! \n\n\nBring your little ones for a magical hour of stories every Friday!\n\n\n When: Fridays\n Time: 10:30 AM – 11:30 AM\n Where: West Ealing Library\, Melbourne Avenue\n\n\nEnjoy interactive tales\, fun activities\, and meet other families.\n\n\nJoin us and spark a love for reading! \n\n\n\nFollow us for updates:
URL:https://wecl.org.uk/activities-and-events/baby-toddler-story-time-36/2026-07-03/
LOCATION:West Ealing Community Library\, Melbourne Ave\, West Ealing\, London\, W13 9BT\, United Kingdom
CATEGORIES:Activities
ATTACH;FMTTYPE=image/png:https://wecl.org.uk/wp-content/uploads/2024/08/Story-time-.png
END:VEVENT
BEGIN:VEVENT
DTSTART;TZID=UTC:20260710T103000
DTEND;TZID=UTC:20260710T113000
DTSTAMP:20260421T064753
CREATED:20250531T215846Z
LAST-MODIFIED:20260326T191552Z
UID:10001155-1783679400-1783683000@wecl.org.uk
SUMMARY:Baby & Toddler Story Time
DESCRIPTION:Baby & Toddler Story Time at West Ealing Library! \n\n\nBring your little ones for a magical hour of stories every Friday!\n\n\n When: Fridays\n Time: 10:30 AM – 11:30 AM\n Where: West Ealing Library\, Melbourne Avenue\n\n\nEnjoy interactive tales\, fun activities\, and meet other families.\n\n\nJoin us and spark a love for reading! \n\n\n\nFollow us for updates:
URL:https://wecl.org.uk/activities-and-events/baby-toddler-story-time-36/2026-07-10/
LOCATION:West Ealing Community Library\, Melbourne Ave\, West Ealing\, London\, W13 9BT\, United Kingdom
CATEGORIES:Activities
ATTACH;FMTTYPE=image/png:https://wecl.org.uk/wp-content/uploads/2024/08/Story-time-.png
END:VEVENT
BEGIN:VEVENT
DTSTART;TZID=UTC:20260717T103000
DTEND;TZID=UTC:20260717T113000
DTSTAMP:20260421T064753
CREATED:20250531T215846Z
LAST-MODIFIED:20260326T191552Z
UID:10001156-1784284200-1784287800@wecl.org.uk
SUMMARY:Baby & Toddler Story Time
DESCRIPTION:Baby & Toddler Story Time at West Ealing Library! \n\n\nBring your little ones for a magical hour of stories every Friday!\n\n\n When: Fridays\n Time: 10:30 AM – 11:30 AM\n Where: West Ealing Library\, Melbourne Avenue\n\n\nEnjoy interactive tales\, fun activities\, and meet other families.\n\n\nJoin us and spark a love for reading! \n\n\n\nFollow us for updates:
URL:https://wecl.org.uk/activities-and-events/baby-toddler-story-time-36/2026-07-17/
LOCATION:West Ealing Community Library\, Melbourne Ave\, West Ealing\, London\, W13 9BT\, United Kingdom
CATEGORIES:Activities
ATTACH;FMTTYPE=image/png:https://wecl.org.uk/wp-content/uploads/2024/08/Story-time-.png
END:VEVENT
BEGIN:VEVENT
DTSTART;TZID=UTC:20260724T103000
DTEND;TZID=UTC:20260724T113000
DTSTAMP:20260421T064753
CREATED:20250531T215846Z
LAST-MODIFIED:20260326T191552Z
UID:10001157-1784889000-1784892600@wecl.org.uk
SUMMARY:Baby & Toddler Story Time
DESCRIPTION:Baby & Toddler Story Time at West Ealing Library! \n\n\nBring your little ones for a magical hour of stories every Friday!\n\n\n When: Fridays\n Time: 10:30 AM – 11:30 AM\n Where: West Ealing Library\, Melbourne Avenue\n\n\nEnjoy interactive tales\, fun activities\, and meet other families.\n\n\nJoin us and spark a love for reading! \n\n\n\nFollow us for updates:
URL:https://wecl.org.uk/activities-and-events/baby-toddler-story-time-36/2026-07-24/
LOCATION:West Ealing Community Library\, Melbourne Ave\, West Ealing\, London\, W13 9BT\, United Kingdom
CATEGORIES:Activities
ATTACH;FMTTYPE=image/png:https://wecl.org.uk/wp-content/uploads/2024/08/Story-time-.png
END:VEVENT
BEGIN:VEVENT
DTSTART;TZID=UTC:20260731T103000
DTEND;TZID=UTC:20260731T113000
DTSTAMP:20260421T064753
CREATED:20250531T215846Z
LAST-MODIFIED:20260326T191552Z
UID:10001158-1785493800-1785497400@wecl.org.uk
SUMMARY:Baby & Toddler Story Time
DESCRIPTION:Baby & Toddler Story Time at West Ealing Library! \n\n\nBring your little ones for a magical hour of stories every Friday!\n\n\n When: Fridays\n Time: 10:30 AM – 11:30 AM\n Where: West Ealing Library\, Melbourne Avenue\n\n\nEnjoy interactive tales\, fun activities\, and meet other families.\n\n\nJoin us and spark a love for reading! \n\n\n\nFollow us for updates:
URL:https://wecl.org.uk/activities-and-events/baby-toddler-story-time-36/2026-07-31/
LOCATION:West Ealing Community Library\, Melbourne Ave\, West Ealing\, London\, W13 9BT\, United Kingdom
CATEGORIES:Activities
ATTACH;FMTTYPE=image/png:https://wecl.org.uk/wp-content/uploads/2024/08/Story-time-.png
END:VEVENT
BEGIN:VEVENT
DTSTART;TZID=UTC:20260807T103000
DTEND;TZID=UTC:20260807T113000
DTSTAMP:20260421T064753
CREATED:20250531T215846Z
LAST-MODIFIED:20260326T191552Z
UID:10001159-1786098600-1786102200@wecl.org.uk
SUMMARY:Baby & Toddler Story Time
DESCRIPTION:Baby & Toddler Story Time at West Ealing Library! \n\n\nBring your little ones for a magical hour of stories every Friday!\n\n\n When: Fridays\n Time: 10:30 AM – 11:30 AM\n Where: West Ealing Library\, Melbourne Avenue\n\n\nEnjoy interactive tales\, fun activities\, and meet other families.\n\n\nJoin us and spark a love for reading! \n\n\n\nFollow us for updates:
URL:https://wecl.org.uk/activities-and-events/baby-toddler-story-time-36/2026-08-07/
LOCATION:West Ealing Community Library\, Melbourne Ave\, West Ealing\, London\, W13 9BT\, United Kingdom
CATEGORIES:Activities
ATTACH;FMTTYPE=image/png:https://wecl.org.uk/wp-content/uploads/2024/08/Story-time-.png
END:VEVENT
BEGIN:VEVENT
DTSTART;TZID=UTC:20260814T103000
DTEND;TZID=UTC:20260814T113000
DTSTAMP:20260421T064753
CREATED:20250531T215846Z
LAST-MODIFIED:20260326T191552Z
UID:10001160-1786703400-1786707000@wecl.org.uk
SUMMARY:Baby & Toddler Story Time
DESCRIPTION:Baby & Toddler Story Time at West Ealing Library! \n\n\nBring your little ones for a magical hour of stories every Friday!\n\n\n When: Fridays\n Time: 10:30 AM – 11:30 AM\n Where: West Ealing Library\, Melbourne Avenue\n\n\nEnjoy interactive tales\, fun activities\, and meet other families.\n\n\nJoin us and spark a love for reading! \n\n\n\nFollow us for updates:
URL:https://wecl.org.uk/activities-and-events/baby-toddler-story-time-36/2026-08-14/
LOCATION:West Ealing Community Library\, Melbourne Ave\, West Ealing\, London\, W13 9BT\, United Kingdom
CATEGORIES:Activities
ATTACH;FMTTYPE=image/png:https://wecl.org.uk/wp-content/uploads/2024/08/Story-time-.png
END:VEVENT
BEGIN:VEVENT
DTSTART;TZID=UTC:20260821T103000
DTEND;TZID=UTC:20260821T113000
DTSTAMP:20260421T064753
CREATED:20250531T215846Z
LAST-MODIFIED:20260326T191552Z
UID:10001161-1787308200-1787311800@wecl.org.uk
SUMMARY:Baby & Toddler Story Time
DESCRIPTION:Baby & Toddler Story Time at West Ealing Library! \n\n\nBring your little ones for a magical hour of stories every Friday!\n\n\n When: Fridays\n Time: 10:30 AM – 11:30 AM\n Where: West Ealing Library\, Melbourne Avenue\n\n\nEnjoy interactive tales\, fun activities\, and meet other families.\n\n\nJoin us and spark a love for reading! \n\n\n\nFollow us for updates:
URL:https://wecl.org.uk/activities-and-events/baby-toddler-story-time-36/2026-08-21/
LOCATION:West Ealing Community Library\, Melbourne Ave\, West Ealing\, London\, W13 9BT\, United Kingdom
CATEGORIES:Activities
ATTACH;FMTTYPE=image/png:https://wecl.org.uk/wp-content/uploads/2024/08/Story-time-.png
END:VEVENT
BEGIN:VEVENT
DTSTART;TZID=UTC:20260828T103000
DTEND;TZID=UTC:20260828T113000
DTSTAMP:20260421T064753
CREATED:20250531T215846Z
LAST-MODIFIED:20260326T191552Z
UID:10001162-1787913000-1787916600@wecl.org.uk
SUMMARY:Baby & Toddler Story Time
DESCRIPTION:Baby & Toddler Story Time at West Ealing Library! \n\n\nBring your little ones for a magical hour of stories every Friday!\n\n\n When: Fridays\n Time: 10:30 AM – 11:30 AM\n Where: West Ealing Library\, Melbourne Avenue\n\n\nEnjoy interactive tales\, fun activities\, and meet other families.\n\n\nJoin us and spark a love for reading! \n\n\n\nFollow us for updates:
URL:https://wecl.org.uk/activities-and-events/baby-toddler-story-time-36/2026-08-28/
LOCATION:West Ealing Community Library\, Melbourne Ave\, West Ealing\, London\, W13 9BT\, United Kingdom
CATEGORIES:Activities
ATTACH;FMTTYPE=image/png:https://wecl.org.uk/wp-content/uploads/2024/08/Story-time-.png
END:VEVENT
BEGIN:VEVENT
DTSTART;TZID=UTC:20260904T103000
DTEND;TZID=UTC:20260904T113000
DTSTAMP:20260421T064753
CREATED:20250531T215846Z
LAST-MODIFIED:20260326T191552Z
UID:10001163-1788517800-1788521400@wecl.org.uk
SUMMARY:Baby & Toddler Story Time
DESCRIPTION:Baby & Toddler Story Time at West Ealing Library! \n\n\nBring your little ones for a magical hour of stories every Friday!\n\n\n When: Fridays\n Time: 10:30 AM – 11:30 AM\n Where: West Ealing Library\, Melbourne Avenue\n\n\nEnjoy interactive tales\, fun activities\, and meet other families.\n\n\nJoin us and spark a love for reading! \n\n\n\nFollow us for updates:
URL:https://wecl.org.uk/activities-and-events/baby-toddler-story-time-36/2026-09-04/
LOCATION:West Ealing Community Library\, Melbourne Ave\, West Ealing\, London\, W13 9BT\, United Kingdom
CATEGORIES:Activities
ATTACH;FMTTYPE=image/png:https://wecl.org.uk/wp-content/uploads/2024/08/Story-time-.png
END:VEVENT
BEGIN:VEVENT
DTSTART;TZID=UTC:20260911T103000
DTEND;TZID=UTC:20260911T113000
DTSTAMP:20260421T064753
CREATED:20250531T215846Z
LAST-MODIFIED:20260326T191552Z
UID:10001164-1789122600-1789126200@wecl.org.uk
SUMMARY:Baby & Toddler Story Time
DESCRIPTION:Baby & Toddler Story Time at West Ealing Library! \n\n\nBring your little ones for a magical hour of stories every Friday!\n\n\n When: Fridays\n Time: 10:30 AM – 11:30 AM\n Where: West Ealing Library\, Melbourne Avenue\n\n\nEnjoy interactive tales\, fun activities\, and meet other families.\n\n\nJoin us and spark a love for reading! \n\n\n\nFollow us for updates:
URL:https://wecl.org.uk/activities-and-events/baby-toddler-story-time-36/2026-09-11/
LOCATION:West Ealing Community Library\, Melbourne Ave\, West Ealing\, London\, W13 9BT\, United Kingdom
CATEGORIES:Activities
ATTACH;FMTTYPE=image/png:https://wecl.org.uk/wp-content/uploads/2024/08/Story-time-.png
END:VEVENT
BEGIN:VEVENT
DTSTART;TZID=UTC:20260918T103000
DTEND;TZID=UTC:20260918T113000
DTSTAMP:20260421T064753
CREATED:20250531T215846Z
LAST-MODIFIED:20260326T191552Z
UID:10001165-1789727400-1789731000@wecl.org.uk
SUMMARY:Baby & Toddler Story Time
DESCRIPTION:Baby & Toddler Story Time at West Ealing Library! \n\n\nBring your little ones for a magical hour of stories every Friday!\n\n\n When: Fridays\n Time: 10:30 AM – 11:30 AM\n Where: West Ealing Library\, Melbourne Avenue\n\n\nEnjoy interactive tales\, fun activities\, and meet other families.\n\n\nJoin us and spark a love for reading! \n\n\n\nFollow us for updates:
URL:https://wecl.org.uk/activities-and-events/baby-toddler-story-time-36/2026-09-18/
LOCATION:West Ealing Community Library\, Melbourne Ave\, West Ealing\, London\, W13 9BT\, United Kingdom
CATEGORIES:Activities
ATTACH;FMTTYPE=image/png:https://wecl.org.uk/wp-content/uploads/2024/08/Story-time-.png
END:VEVENT
BEGIN:VEVENT
DTSTART;TZID=UTC:20260925T103000
DTEND;TZID=UTC:20260925T113000
DTSTAMP:20260421T064753
CREATED:20250531T215846Z
LAST-MODIFIED:20260326T191552Z
UID:10001166-1790332200-1790335800@wecl.org.uk
SUMMARY:Baby & Toddler Story Time
DESCRIPTION:Baby & Toddler Story Time at West Ealing Library! \n\n\nBring your little ones for a magical hour of stories every Friday!\n\n\n When: Fridays\n Time: 10:30 AM – 11:30 AM\n Where: West Ealing Library\, Melbourne Avenue\n\n\nEnjoy interactive tales\, fun activities\, and meet other families.\n\n\nJoin us and spark a love for reading! \n\n\n\nFollow us for updates:
URL:https://wecl.org.uk/activities-and-events/baby-toddler-story-time-36/2026-09-25/
LOCATION:West Ealing Community Library\, Melbourne Ave\, West Ealing\, London\, W13 9BT\, United Kingdom
CATEGORIES:Activities
ATTACH;FMTTYPE=image/png:https://wecl.org.uk/wp-content/uploads/2024/08/Story-time-.png
END:VEVENT
BEGIN:VEVENT
DTSTART;TZID=UTC:20261002T103000
DTEND;TZID=UTC:20261002T113000
DTSTAMP:20260421T064753
CREATED:20250531T215846Z
LAST-MODIFIED:20260326T191552Z
UID:10001167-1790937000-1790940600@wecl.org.uk
SUMMARY:Baby & Toddler Story Time
DESCRIPTION:Baby & Toddler Story Time at West Ealing Library! \n\n\nBring your little ones for a magical hour of stories every Friday!\n\n\n When: Fridays\n Time: 10:30 AM – 11:30 AM\n Where: West Ealing Library\, Melbourne Avenue\n\n\nEnjoy interactive tales\, fun activities\, and meet other families.\n\n\nJoin us and spark a love for reading! \n\n\n\nFollow us for updates:
URL:https://wecl.org.uk/activities-and-events/baby-toddler-story-time-36/2026-10-02/
LOCATION:West Ealing Community Library\, Melbourne Ave\, West Ealing\, London\, W13 9BT\, United Kingdom
CATEGORIES:Activities
ATTACH;FMTTYPE=image/png:https://wecl.org.uk/wp-content/uploads/2024/08/Story-time-.png
END:VEVENT
BEGIN:VEVENT
DTSTART;TZID=UTC:20261009T103000
DTEND;TZID=UTC:20261009T113000
DTSTAMP:20260421T064753
CREATED:20250531T215846Z
LAST-MODIFIED:20260326T191552Z
UID:10001168-1791541800-1791545400@wecl.org.uk
SUMMARY:Baby & Toddler Story Time
DESCRIPTION:Baby & Toddler Story Time at West Ealing Library! \n\n\nBring your little ones for a magical hour of stories every Friday!\n\n\n When: Fridays\n Time: 10:30 AM – 11:30 AM\n Where: West Ealing Library\, Melbourne Avenue\n\n\nEnjoy interactive tales\, fun activities\, and meet other families.\n\n\nJoin us and spark a love for reading! \n\n\n\nFollow us for updates:
URL:https://wecl.org.uk/activities-and-events/baby-toddler-story-time-36/2026-10-09/
LOCATION:West Ealing Community Library\, Melbourne Ave\, West Ealing\, London\, W13 9BT\, United Kingdom
CATEGORIES:Activities
ATTACH;FMTTYPE=image/png:https://wecl.org.uk/wp-content/uploads/2024/08/Story-time-.png
END:VEVENT
BEGIN:VEVENT
DTSTART;TZID=UTC:20261016T103000
DTEND;TZID=UTC:20261016T113000
DTSTAMP:20260421T064753
CREATED:20250531T215846Z
LAST-MODIFIED:20260326T191552Z
UID:10001169-1792146600-1792150200@wecl.org.uk
SUMMARY:Baby & Toddler Story Time
DESCRIPTION:Baby & Toddler Story Time at West Ealing Library! \n\n\nBring your little ones for a magical hour of stories every Friday!\n\n\n When: Fridays\n Time: 10:30 AM – 11:30 AM\n Where: West Ealing Library\, Melbourne Avenue\n\n\nEnjoy interactive tales\, fun activities\, and meet other families.\n\n\nJoin us and spark a love for reading! \n\n\n\nFollow us for updates:
URL:https://wecl.org.uk/activities-and-events/baby-toddler-story-time-36/2026-10-16/
LOCATION:West Ealing Community Library\, Melbourne Ave\, West Ealing\, London\, W13 9BT\, United Kingdom
CATEGORIES:Activities
ATTACH;FMTTYPE=image/png:https://wecl.org.uk/wp-content/uploads/2024/08/Story-time-.png
END:VEVENT
BEGIN:VEVENT
DTSTART;TZID=UTC:20261023T103000
DTEND;TZID=UTC:20261023T113000
DTSTAMP:20260421T064753
CREATED:20250531T215846Z
LAST-MODIFIED:20260326T191552Z
UID:10001170-1792751400-1792755000@wecl.org.uk
SUMMARY:Baby & Toddler Story Time
DESCRIPTION:Baby & Toddler Story Time at West Ealing Library! \n\n\nBring your little ones for a magical hour of stories every Friday!\n\n\n When: Fridays\n Time: 10:30 AM – 11:30 AM\n Where: West Ealing Library\, Melbourne Avenue\n\n\nEnjoy interactive tales\, fun activities\, and meet other families.\n\n\nJoin us and spark a love for reading! \n\n\n\nFollow us for updates:
URL:https://wecl.org.uk/activities-and-events/baby-toddler-story-time-36/2026-10-23/
LOCATION:West Ealing Community Library\, Melbourne Ave\, West Ealing\, London\, W13 9BT\, United Kingdom
CATEGORIES:Activities
ATTACH;FMTTYPE=image/png:https://wecl.org.uk/wp-content/uploads/2024/08/Story-time-.png
END:VEVENT
BEGIN:VEVENT
DTSTART;TZID=UTC:20261030T103000
DTEND;TZID=UTC:20261030T113000
DTSTAMP:20260421T064753
CREATED:20250531T215846Z
LAST-MODIFIED:20260326T191552Z
UID:10001171-1793356200-1793359800@wecl.org.uk
SUMMARY:Baby & Toddler Story Time
DESCRIPTION:Baby & Toddler Story Time at West Ealing Library! \n\n\nBring your little ones for a magical hour of stories every Friday!\n\n\n When: Fridays\n Time: 10:30 AM – 11:30 AM\n Where: West Ealing Library\, Melbourne Avenue\n\n\nEnjoy interactive tales\, fun activities\, and meet other families.\n\n\nJoin us and spark a love for reading! \n\n\n\nFollow us for updates:
URL:https://wecl.org.uk/activities-and-events/baby-toddler-story-time-36/2026-10-30/
LOCATION:West Ealing Community Library\, Melbourne Ave\, West Ealing\, London\, W13 9BT\, United Kingdom
CATEGORIES:Activities
ATTACH;FMTTYPE=image/png:https://wecl.org.uk/wp-content/uploads/2024/08/Story-time-.png
END:VEVENT
BEGIN:VEVENT
DTSTART;TZID=UTC:20261106T103000
DTEND;TZID=UTC:20261106T113000
DTSTAMP:20260421T064753
CREATED:20250531T215846Z
LAST-MODIFIED:20260326T191552Z
UID:10001172-1793961000-1793964600@wecl.org.uk
SUMMARY:Baby & Toddler Story Time
DESCRIPTION:Baby & Toddler Story Time at West Ealing Library! \n\n\nBring your little ones for a magical hour of stories every Friday!\n\n\n When: Fridays\n Time: 10:30 AM – 11:30 AM\n Where: West Ealing Library\, Melbourne Avenue\n\n\nEnjoy interactive tales\, fun activities\, and meet other families.\n\n\nJoin us and spark a love for reading! \n\n\n\nFollow us for updates:
URL:https://wecl.org.uk/activities-and-events/baby-toddler-story-time-36/2026-11-06/
LOCATION:West Ealing Community Library\, Melbourne Ave\, West Ealing\, London\, W13 9BT\, United Kingdom
CATEGORIES:Activities
ATTACH;FMTTYPE=image/png:https://wecl.org.uk/wp-content/uploads/2024/08/Story-time-.png
END:VEVENT
BEGIN:VEVENT
DTSTART;TZID=UTC:20261113T103000
DTEND;TZID=UTC:20261113T113000
DTSTAMP:20260421T064753
CREATED:20250531T215846Z
LAST-MODIFIED:20260326T191552Z
UID:10001173-1794565800-1794569400@wecl.org.uk
SUMMARY:Baby & Toddler Story Time
DESCRIPTION:Baby & Toddler Story Time at West Ealing Library! \n\n\nBring your little ones for a magical hour of stories every Friday!\n\n\n When: Fridays\n Time: 10:30 AM – 11:30 AM\n Where: West Ealing Library\, Melbourne Avenue\n\n\nEnjoy interactive tales\, fun activities\, and meet other families.\n\n\nJoin us and spark a love for reading! \n\n\n\nFollow us for updates:
URL:https://wecl.org.uk/activities-and-events/baby-toddler-story-time-36/2026-11-13/
LOCATION:West Ealing Community Library\, Melbourne Ave\, West Ealing\, London\, W13 9BT\, United Kingdom
CATEGORIES:Activities
ATTACH;FMTTYPE=image/png:https://wecl.org.uk/wp-content/uploads/2024/08/Story-time-.png
END:VEVENT
END:VCALENDAR