BEGIN:VCALENDAR
VERSION:2.0
PRODID:-//West Ealing Library - ECPv6.15.20//NONSGML v1.0//EN
CALSCALE:GREGORIAN
METHOD:PUBLISH
X-ORIGINAL-URL:https://wecl.org.uk
X-WR-CALDESC:Events for West Ealing Library
REFRESH-INTERVAL;VALUE=DURATION:PT1H
X-Robots-Tag:noindex
X-PUBLISHED-TTL:PT1H
BEGIN:VTIMEZONE
TZID:UTC
BEGIN:STANDARD
TZOFFSETFROM:+0000
TZOFFSETTO:+0000
TZNAME:UTC
DTSTART:20230101T000000
END:STANDARD
END:VTIMEZONE
BEGIN:VEVENT
DTSTART;TZID=UTC:20240829T113000
DTEND;TZID=UTC:20240829T123000
DTSTAMP:20260419T173838
CREATED:20240810T154734Z
LAST-MODIFIED:20240810T154739Z
UID:10000016-1724931000-1724934600@wecl.org.uk
SUMMARY:Exciting Kids' Events for Ages 5-11 by Friends of the Earth
DESCRIPTION:Exciting Kids’ Events at West Ealing Community Library! \n\n\nJoin our partners\, Friends of Earth Ealing Ealing Friends of the Earth\, for fun and educational activities for kids ages 5-11:\n\n\n Plastic’s Not Fantastic\n Creepy Crawlies & Compost\n Bees & Pollinator Friends\n Climate Change & Earth Art\n\n\n Where: West Ealing Community Library\, Melbourne Avenue\, Ealing\, London\, W13 9BT\n\n\n When: Thursdays in August (1st\, 8th\, 15th\, 29th) from 11:30 – 12:30\n\n\n Plus\,Nature talks & art!\n\n\nBe a #PlanetProtector! \n\n\nSee you there! \n\n\n\n\nCertainly! Here’s the list with hashtags removed\, words separated\, and commas added: \n 
URL:https://wecl.org.uk/activities-and-events/exciting-kids-events-for-ages-5-11-by-friends-of-the-earth-3/
LOCATION:West Ealing Community Library\, Melbourne Ave\, West Ealing\, London\, W13 9BT\, United Kingdom
CATEGORIES:Activities
ATTACH;FMTTYPE=image/png:https://wecl.org.uk/wp-content/uploads/2024/08/Untitled-design-2-e1723308143142.png
END:VEVENT
BEGIN:VEVENT
DTSTART;TZID=UTC:20240815T113000
DTEND;TZID=UTC:20240815T123000
DTSTAMP:20260419T173838
CREATED:20240810T154311Z
LAST-MODIFIED:20240810T154652Z
UID:10000014-1723721400-1723725000@wecl.org.uk
SUMMARY:Exciting Kids' Events for Ages 5-11 by Friends of the Earth
DESCRIPTION:Exciting Kids’ Events at West Ealing Community Library! \n\n\nJoin our partners\, Friends of Earth Ealing Ealing Friends of the Earth\, for fun and educational activities for kids ages 5-11:\n\n\n Plastic’s Not Fantastic\n Creepy Crawlies & Compost\n Bees & Pollinator Friends\n Climate Change & Earth Art\n\n\n Where: West Ealing Community Library\, Melbourne Avenue\, Ealing\, London\, W13 9BT\n\n\n When: Thursdays in August (1st\, 8th\, 15th\, 29th) from 11:30 – 12:30\n\n\n Plus\,Nature talks & art!\n\n\nBe a #PlanetProtector! \n\n\nSee you there! \n\n\n\n\nCertainly! Here’s the list with hashtags removed\, words separated\, and commas added: \n 
URL:https://wecl.org.uk/activities-and-events/exciting-kids-events-for-ages-5-11-by-friends-of-the-earth/
LOCATION:West Ealing Community Library\, Melbourne Ave\, West Ealing\, London\, W13 9BT\, United Kingdom
CATEGORIES:Activities
ATTACH;FMTTYPE=image/png:https://wecl.org.uk/wp-content/uploads/2024/08/Untitled-design-2-e1723308143142.png
END:VEVENT
BEGIN:VEVENT
DTSTART;TZID=UTC:20240808T113000
DTEND;TZID=UTC:20240808T123000
DTSTAMP:20260419T173838
CREATED:20240810T154711Z
LAST-MODIFIED:20240810T154711Z
UID:10000015-1723116600-1723120200@wecl.org.uk
SUMMARY:Exciting Kids' Events for Ages 5-11 by Friends of the Earth
DESCRIPTION:Exciting Kids’ Events at West Ealing Community Library! \n\n\nJoin our partners\, Friends of Earth Ealing Ealing Friends of the Earth\, for fun and educational activities for kids ages 5-11:\n\n\n Plastic’s Not Fantastic\n Creepy Crawlies & Compost\n Bees & Pollinator Friends\n Climate Change & Earth Art\n\n\n Where: West Ealing Community Library\, Melbourne Avenue\, Ealing\, London\, W13 9BT\n\n\n When: Thursdays in August (1st\, 8th\, 15th\, 29th) from 11:30 – 12:30\n\n\n Plus\,Nature talks & art!\n\n\nBe a #PlanetProtector! \n\n\nSee you there! \n\n\n\n\nCertainly! Here’s the list with hashtags removed\, words separated\, and commas added: \n 
URL:https://wecl.org.uk/activities-and-events/exciting-kids-events-for-ages-5-11-by-friends-of-the-earth-2/
LOCATION:West Ealing Community Library\, Melbourne Ave\, West Ealing\, London\, W13 9BT\, United Kingdom
CATEGORIES:Activities
ATTACH;FMTTYPE=image/png:https://wecl.org.uk/wp-content/uploads/2024/08/Untitled-design-2-e1723308143142.png
END:VEVENT
END:VCALENDAR