BEGIN:VCALENDAR
VERSION:2.0
PRODID:-//West Ealing Library - ECPv6.15.20//NONSGML v1.0//EN
CALSCALE:GREGORIAN
METHOD:PUBLISH
X-ORIGINAL-URL:https://wecl.org.uk
X-WR-CALDESC:Events for West Ealing Library
REFRESH-INTERVAL;VALUE=DURATION:PT1H
X-Robots-Tag:noindex
X-PUBLISHED-TTL:PT1H
BEGIN:VTIMEZONE
TZID:UTC
BEGIN:STANDARD
TZOFFSETFROM:+0000
TZOFFSETTO:+0000
TZNAME:UTC
DTSTART:20230101T000000
END:STANDARD
END:VTIMEZONE
BEGIN:VEVENT
DTSTART;TZID=UTC:20240904T103000
DTEND;TZID=UTC:20240904T113000
DTSTAMP:20260424T092420
CREATED:20240820T131556Z
LAST-MODIFIED:20240903T192611Z
UID:10000082-1725445800-1725449400@wecl.org.uk
SUMMARY:Workshop for Individuals with Learning Disabilities!
DESCRIPTION:🖼️✨ Join Our “Beyond Words” Workshop for Individuals with Learning Disabilities! ✨🖼️ \nAre you or someone you know seeking a creative and supportive way to communicate and learn? Join us at the library for our “Beyond Words” Workshop\, designed specifically for individuals with learning disabilities. \n🗓 Schedule: Wednesday\, 4th of September\n10:30 AM \n📍 Location: West Ealing Community Library\, Melbourne Avenue \nWhat to Expect: \n\nExplore stories through captivating images\nEngage in group discussions and activities using pictures\nEnhance emotional intelligence and vocabulary through visual learning\n\nDon’t miss this opportunity to discover the power of pictures in communication and learning. Come and be part of our vibrant community! \n🧩✨ Let’s connect beyond words! ✨🧩 \n 
URL:https://wecl.org.uk/activities-and-events/workshop-for-individuals-with-learning-disabilities/
LOCATION:West Ealing Community Library\, Melbourne Ave\, West Ealing\, London\, W13 9BT\, United Kingdom
CATEGORIES:Activities,Adults,Beyond Words
ATTACH;FMTTYPE=image/png:https://wecl.org.uk/wp-content/uploads/2024/08/Individuals-with-Learning-Disabilitie-Instagram-Post.png
END:VEVENT
BEGIN:VEVENT
DTSTART;TZID=UTC:20250205T103000
DTEND;TZID=UTC:20250205T113000
DTSTAMP:20260424T092420
CREATED:20250208T144220Z
LAST-MODIFIED:20250208T151520Z
UID:10000232-1738751400-1738755000@wecl.org.uk
SUMMARY:Workshop for Individuals with Learning Disabilities!
DESCRIPTION:🖼️✨ Join Our “Beyond Words” Workshop for Individuals with Learning Disabilities! ✨🖼️ \nAre you or someone you know seeking a creative and supportive way to communicate and learn? Join us at the library for our “Beyond Words” Workshop\, designed specifically for individuals with learning disabilities. \n🗓 Schedule: Wednesday\, 5th of February\n10:30 AM \n📍 Location: West Ealing Community Library\, Melbourne Avenue \nWhat to Expect: \n\nExplore stories through captivating images\nEngage in group discussions and activities using pictures\nEnhance emotional intelligence and vocabulary through visual learning\n\nDon’t miss this opportunity to discover the power of pictures in communication and learning. Come and be part of our vibrant community! \n🧩✨ Let’s connect beyond words! ✨🧩 \n 
URL:https://wecl.org.uk/activities-and-events/workshop-for-individuals-with-learning-disabilities-2/
LOCATION:West Ealing Community Library\, Melbourne Ave\, West Ealing\, London\, W13 9BT\, United Kingdom
CATEGORIES:Activities,Adults,Beyond Words
END:VEVENT
BEGIN:VEVENT
DTSTART;TZID=UTC:20250305T103000
DTEND;TZID=UTC:20250305T113000
DTSTAMP:20260424T092420
CREATED:20250309T175955Z
LAST-MODIFIED:20250309T175955Z
UID:10000292-1741170600-1741174200@wecl.org.uk
SUMMARY:Workshop for Individuals with Learning Disabilities!
DESCRIPTION:🖼️✨ Join Our “Beyond Words” Workshop for Individuals with Learning Disabilities! ✨🖼️ \nAre you or someone you know seeking a creative and supportive way to communicate and learn? Join us at the library for our “Beyond Words” Workshop\, designed specifically for individuals with learning disabilities. \n🗓 Schedule: Wednesday\, 5th of March\n10:30 AM \n📍 Location: West Ealing Community Library\, Melbourne Avenue \nWhat to Expect: \n\nExplore stories through captivating images\nEngage in group discussions and activities using pictures\nEnhance emotional intelligence and vocabulary through visual learning\n\nDon’t miss this opportunity to discover the power of pictures in communication and learning. Come and be part of our vibrant community! \n🧩✨ Let’s connect beyond words! ✨🧩 \n 
URL:https://wecl.org.uk/activities-and-events/workshop-for-individuals-with-learning-disabilities-3/
LOCATION:West Ealing Community Library\, Melbourne Ave\, West Ealing\, London\, W13 9BT\, United Kingdom
CATEGORIES:Activities,Adults,Beyond Words
END:VEVENT
BEGIN:VEVENT
DTSTART;TZID=UTC:20250402T103000
DTEND;TZID=UTC:20250402T113000
DTSTAMP:20260424T092420
CREATED:20250405T183537Z
LAST-MODIFIED:20250405T183704Z
UID:10000301-1743589800-1743593400@wecl.org.uk
SUMMARY:Workshop for Individuals with Learning Disabilities!
DESCRIPTION:🖼️✨ Join Our “Beyond Words” Workshop for Individuals with Learning Disabilities! ✨🖼️ \nAre you or someone you know seeking a creative and supportive way to communicate and learn? Join us at the library for our “Beyond Words” Workshop\, designed specifically for individuals with learning disabilities. \n🗓 Schedule: Wednesday\, 5th of March\n10:30 AM \n📍 Location: West Ealing Community Library\, Melbourne Avenue \nWhat to Expect: \n\nExplore stories through captivating images\nEngage in group discussions and activities using pictures\nEnhance emotional intelligence and vocabulary through visual learning\n\nDon’t miss this opportunity to discover the power of pictures in communication and learning. Come and be part of our vibrant community! \n🧩✨ Let’s connect beyond words! ✨🧩 \n 
URL:https://wecl.org.uk/activities-and-events/workshop-for-individuals-with-learning-disabilities-4/
LOCATION:West Ealing Community Library\, Melbourne Ave\, West Ealing\, London\, W13 9BT\, United Kingdom
CATEGORIES:Activities,Adults,Beyond Words
END:VEVENT
BEGIN:VEVENT
DTSTART;TZID=UTC:20250601T103000
DTEND;TZID=UTC:20250601T113000
DTSTAMP:20260424T092420
CREATED:20251002T194228Z
LAST-MODIFIED:20251002T194228Z
UID:10000983-1748773800-1748777400@wecl.org.uk
SUMMARY:Books Beyond Words for Individuals with Learning Disabilities!
DESCRIPTION:🖼️✨ Join Our “Beyond Words” Workshop for Individuals with Learning Disabilities! ✨🖼️ \nAre you or someone you know seeking a creative and supportive way to communicate and learn? Join us at the library for our “Beyond Words” Workshop\, designed specifically for individuals with learning disabilities. \n🗓 Schedule: First Wednsday of each month\n10:30 AM \n📍 Location: West Ealing Community Library\, Melbourne Avenue \nWhat to Expect: \n\nExplore stories through captivating images\nEngage in group discussions and activities using pictures\nEnhance emotional intelligence and vocabulary through visual learning\n\nDon’t miss this opportunity to discover the power of pictures in communication and learning. Come and be part of our vibrant community! \n🧩✨ Let’s connect beyond words! ✨🧩 \nFollow us for updates:🌐 Website | 📸 Instagram | 👍 Facebook | 🐦 X (Twitter) | 💼 LinkedIn
URL:https://wecl.org.uk/activities-and-events/books-beyond-words-for-individuals-with-learning-disabilities-2/2025-06-01/
LOCATION:West Ealing Community Library\, Melbourne Ave\, West Ealing\, London\, W13 9BT\, United Kingdom
CATEGORIES:Activities,Adults,Beyond Words
ATTACH;FMTTYPE=image/png:https://wecl.org.uk/wp-content/uploads/2025/05/Individuals-with-Learning-Disabilitie-Instagram-Post.png
END:VEVENT
BEGIN:VEVENT
DTSTART;TZID=UTC:20250604T103000
DTEND;TZID=UTC:20250604T113000
DTSTAMP:20260424T092420
CREATED:20250531T214754Z
LAST-MODIFIED:20260326T191738Z
UID:10000386-1749033000-1749036600@wecl.org.uk
SUMMARY:Books Beyond Words for Individuals with Learning Disabilities!
DESCRIPTION:🖼️✨ Join Our “Beyond Words” Workshop for Individuals with Learning Disabilities! ✨🖼️ \nAre you or someone you know seeking a creative and supportive way to communicate and learn? Join us at the library for our “Beyond Words” Workshop\, designed specifically for individuals with learning disabilities. \n🗓 Schedule: First Wednsday of each month\n10:30 AM \n📍 Location: West Ealing Community Library\, Melbourne Avenue \nWhat to Expect: \n\nExplore stories through captivating images\nEngage in group discussions and activities using pictures\nEnhance emotional intelligence and vocabulary through visual learning\n\nDon’t miss this opportunity to discover the power of pictures in communication and learning. Come and be part of our vibrant community! \n🧩✨ Let’s connect beyond words! ✨🧩 \nFollow us for updates: \n\n\n\n\n\n\n\n\n\n\n\n 
URL:https://wecl.org.uk/activities-and-events/books-beyond-words-for-individuals-with-learning-disabilities/2025-06-04/
LOCATION:West Ealing Community Library\, Melbourne Ave\, West Ealing\, London\, W13 9BT\, United Kingdom
CATEGORIES:Activities,Adults,Beyond Words
ATTACH;FMTTYPE=image/png:https://wecl.org.uk/wp-content/uploads/2025/05/Individuals-with-Learning-Disabilitie-Instagram-Post.png
END:VEVENT
BEGIN:VEVENT
DTSTART;TZID=UTC:20250702T103000
DTEND;TZID=UTC:20250702T113000
DTSTAMP:20260424T092420
CREATED:20250531T214754Z
LAST-MODIFIED:20260326T191738Z
UID:10000767-1751452200-1751455800@wecl.org.uk
SUMMARY:Books Beyond Words for Individuals with Learning Disabilities!
DESCRIPTION:🖼️✨ Join Our “Beyond Words” Workshop for Individuals with Learning Disabilities! ✨🖼️ \nAre you or someone you know seeking a creative and supportive way to communicate and learn? Join us at the library for our “Beyond Words” Workshop\, designed specifically for individuals with learning disabilities. \n🗓 Schedule: First Wednsday of each month\n10:30 AM \n📍 Location: West Ealing Community Library\, Melbourne Avenue \nWhat to Expect: \n\nExplore stories through captivating images\nEngage in group discussions and activities using pictures\nEnhance emotional intelligence and vocabulary through visual learning\n\nDon’t miss this opportunity to discover the power of pictures in communication and learning. Come and be part of our vibrant community! \n🧩✨ Let’s connect beyond words! ✨🧩 \nFollow us for updates: \n\n\n\n\n\n\n\n\n\n\n\n 
URL:https://wecl.org.uk/activities-and-events/books-beyond-words-for-individuals-with-learning-disabilities/2025-07-02/
LOCATION:West Ealing Community Library\, Melbourne Ave\, West Ealing\, London\, W13 9BT\, United Kingdom
CATEGORIES:Activities,Adults,Beyond Words
ATTACH;FMTTYPE=image/png:https://wecl.org.uk/wp-content/uploads/2025/05/Individuals-with-Learning-Disabilitie-Instagram-Post.png
END:VEVENT
BEGIN:VEVENT
DTSTART;TZID=UTC:20250806T103000
DTEND;TZID=UTC:20250806T113000
DTSTAMP:20260424T092420
CREATED:20250531T214754Z
LAST-MODIFIED:20260326T191738Z
UID:10000768-1754476200-1754479800@wecl.org.uk
SUMMARY:Books Beyond Words for Individuals with Learning Disabilities!
DESCRIPTION:🖼️✨ Join Our “Beyond Words” Workshop for Individuals with Learning Disabilities! ✨🖼️ \nAre you or someone you know seeking a creative and supportive way to communicate and learn? Join us at the library for our “Beyond Words” Workshop\, designed specifically for individuals with learning disabilities. \n🗓 Schedule: First Wednsday of each month\n10:30 AM \n📍 Location: West Ealing Community Library\, Melbourne Avenue \nWhat to Expect: \n\nExplore stories through captivating images\nEngage in group discussions and activities using pictures\nEnhance emotional intelligence and vocabulary through visual learning\n\nDon’t miss this opportunity to discover the power of pictures in communication and learning. Come and be part of our vibrant community! \n🧩✨ Let’s connect beyond words! ✨🧩 \nFollow us for updates: \n\n\n\n\n\n\n\n\n\n\n\n 
URL:https://wecl.org.uk/activities-and-events/books-beyond-words-for-individuals-with-learning-disabilities/2025-08-06/
LOCATION:West Ealing Community Library\, Melbourne Ave\, West Ealing\, London\, W13 9BT\, United Kingdom
CATEGORIES:Activities,Adults,Beyond Words
ATTACH;FMTTYPE=image/png:https://wecl.org.uk/wp-content/uploads/2025/05/Individuals-with-Learning-Disabilitie-Instagram-Post.png
END:VEVENT
BEGIN:VEVENT
DTSTART;TZID=UTC:20250903T103000
DTEND;TZID=UTC:20250903T113000
DTSTAMP:20260424T092420
CREATED:20250531T214754Z
LAST-MODIFIED:20260326T191738Z
UID:10000769-1756895400-1756899000@wecl.org.uk
SUMMARY:Books Beyond Words for Individuals with Learning Disabilities!
DESCRIPTION:🖼️✨ Join Our “Beyond Words” Workshop for Individuals with Learning Disabilities! ✨🖼️ \nAre you or someone you know seeking a creative and supportive way to communicate and learn? Join us at the library for our “Beyond Words” Workshop\, designed specifically for individuals with learning disabilities. \n🗓 Schedule: First Wednsday of each month\n10:30 AM \n📍 Location: West Ealing Community Library\, Melbourne Avenue \nWhat to Expect: \n\nExplore stories through captivating images\nEngage in group discussions and activities using pictures\nEnhance emotional intelligence and vocabulary through visual learning\n\nDon’t miss this opportunity to discover the power of pictures in communication and learning. Come and be part of our vibrant community! \n🧩✨ Let’s connect beyond words! ✨🧩 \nFollow us for updates: \n\n\n\n\n\n\n\n\n\n\n\n 
URL:https://wecl.org.uk/activities-and-events/books-beyond-words-for-individuals-with-learning-disabilities/2025-09-03/
LOCATION:West Ealing Community Library\, Melbourne Ave\, West Ealing\, London\, W13 9BT\, United Kingdom
CATEGORIES:Activities,Adults,Beyond Words
ATTACH;FMTTYPE=image/png:https://wecl.org.uk/wp-content/uploads/2025/05/Individuals-with-Learning-Disabilitie-Instagram-Post.png
END:VEVENT
BEGIN:VEVENT
DTSTART;TZID=UTC:20251001T103000
DTEND;TZID=UTC:20251001T113000
DTSTAMP:20260424T092420
CREATED:20250531T214754Z
LAST-MODIFIED:20260326T191738Z
UID:10000770-1759314600-1759318200@wecl.org.uk
SUMMARY:Books Beyond Words for Individuals with Learning Disabilities!
DESCRIPTION:🖼️✨ Join Our “Beyond Words” Workshop for Individuals with Learning Disabilities! ✨🖼️ \nAre you or someone you know seeking a creative and supportive way to communicate and learn? Join us at the library for our “Beyond Words” Workshop\, designed specifically for individuals with learning disabilities. \n🗓 Schedule: First Wednsday of each month\n10:30 AM \n📍 Location: West Ealing Community Library\, Melbourne Avenue \nWhat to Expect: \n\nExplore stories through captivating images\nEngage in group discussions and activities using pictures\nEnhance emotional intelligence and vocabulary through visual learning\n\nDon’t miss this opportunity to discover the power of pictures in communication and learning. Come and be part of our vibrant community! \n🧩✨ Let’s connect beyond words! ✨🧩 \nFollow us for updates: \n\n\n\n\n\n\n\n\n\n\n\n 
URL:https://wecl.org.uk/activities-and-events/books-beyond-words-for-individuals-with-learning-disabilities/2025-10-01/
LOCATION:West Ealing Community Library\, Melbourne Ave\, West Ealing\, London\, W13 9BT\, United Kingdom
CATEGORIES:Activities,Adults,Beyond Words
ATTACH;FMTTYPE=image/png:https://wecl.org.uk/wp-content/uploads/2025/05/Individuals-with-Learning-Disabilitie-Instagram-Post.png
END:VEVENT
BEGIN:VEVENT
DTSTART;TZID=UTC:20251105T103000
DTEND;TZID=UTC:20251105T113000
DTSTAMP:20260424T092420
CREATED:20250531T214754Z
LAST-MODIFIED:20260326T191738Z
UID:10000771-1762338600-1762342200@wecl.org.uk
SUMMARY:Books Beyond Words for Individuals with Learning Disabilities!
DESCRIPTION:🖼️✨ Join Our “Beyond Words” Workshop for Individuals with Learning Disabilities! ✨🖼️ \nAre you or someone you know seeking a creative and supportive way to communicate and learn? Join us at the library for our “Beyond Words” Workshop\, designed specifically for individuals with learning disabilities. \n🗓 Schedule: First Wednsday of each month\n10:30 AM \n📍 Location: West Ealing Community Library\, Melbourne Avenue \nWhat to Expect: \n\nExplore stories through captivating images\nEngage in group discussions and activities using pictures\nEnhance emotional intelligence and vocabulary through visual learning\n\nDon’t miss this opportunity to discover the power of pictures in communication and learning. Come and be part of our vibrant community! \n🧩✨ Let’s connect beyond words! ✨🧩 \nFollow us for updates: \n\n\n\n\n\n\n\n\n\n\n\n 
URL:https://wecl.org.uk/activities-and-events/books-beyond-words-for-individuals-with-learning-disabilities/2025-11-05/
LOCATION:West Ealing Community Library\, Melbourne Ave\, West Ealing\, London\, W13 9BT\, United Kingdom
CATEGORIES:Activities,Adults,Beyond Words
ATTACH;FMTTYPE=image/png:https://wecl.org.uk/wp-content/uploads/2025/05/Individuals-with-Learning-Disabilitie-Instagram-Post.png
END:VEVENT
BEGIN:VEVENT
DTSTART;TZID=UTC:20251203T103000
DTEND;TZID=UTC:20251203T113000
DTSTAMP:20260424T092420
CREATED:20250531T214754Z
LAST-MODIFIED:20260326T191738Z
UID:10000772-1764757800-1764761400@wecl.org.uk
SUMMARY:Books Beyond Words for Individuals with Learning Disabilities!
DESCRIPTION:🖼️✨ Join Our “Beyond Words” Workshop for Individuals with Learning Disabilities! ✨🖼️ \nAre you or someone you know seeking a creative and supportive way to communicate and learn? Join us at the library for our “Beyond Words” Workshop\, designed specifically for individuals with learning disabilities. \n🗓 Schedule: First Wednsday of each month\n10:30 AM \n📍 Location: West Ealing Community Library\, Melbourne Avenue \nWhat to Expect: \n\nExplore stories through captivating images\nEngage in group discussions and activities using pictures\nEnhance emotional intelligence and vocabulary through visual learning\n\nDon’t miss this opportunity to discover the power of pictures in communication and learning. Come and be part of our vibrant community! \n🧩✨ Let’s connect beyond words! ✨🧩 \nFollow us for updates: \n\n\n\n\n\n\n\n\n\n\n\n 
URL:https://wecl.org.uk/activities-and-events/books-beyond-words-for-individuals-with-learning-disabilities/2025-12-03/
LOCATION:West Ealing Community Library\, Melbourne Ave\, West Ealing\, London\, W13 9BT\, United Kingdom
CATEGORIES:Activities,Adults,Beyond Words
ATTACH;FMTTYPE=image/png:https://wecl.org.uk/wp-content/uploads/2025/05/Individuals-with-Learning-Disabilitie-Instagram-Post.png
END:VEVENT
BEGIN:VEVENT
DTSTART;TZID=UTC:20260107T103000
DTEND;TZID=UTC:20260107T113000
DTSTAMP:20260424T092420
CREATED:20250531T214754Z
LAST-MODIFIED:20260326T191738Z
UID:10000773-1767781800-1767785400@wecl.org.uk
SUMMARY:Books Beyond Words for Individuals with Learning Disabilities!
DESCRIPTION:🖼️✨ Join Our “Beyond Words” Workshop for Individuals with Learning Disabilities! ✨🖼️ \nAre you or someone you know seeking a creative and supportive way to communicate and learn? Join us at the library for our “Beyond Words” Workshop\, designed specifically for individuals with learning disabilities. \n🗓 Schedule: First Wednsday of each month\n10:30 AM \n📍 Location: West Ealing Community Library\, Melbourne Avenue \nWhat to Expect: \n\nExplore stories through captivating images\nEngage in group discussions and activities using pictures\nEnhance emotional intelligence and vocabulary through visual learning\n\nDon’t miss this opportunity to discover the power of pictures in communication and learning. Come and be part of our vibrant community! \n🧩✨ Let’s connect beyond words! ✨🧩 \nFollow us for updates: \n\n\n\n\n\n\n\n\n\n\n\n 
URL:https://wecl.org.uk/activities-and-events/books-beyond-words-for-individuals-with-learning-disabilities/2026-01-07/
LOCATION:West Ealing Community Library\, Melbourne Ave\, West Ealing\, London\, W13 9BT\, United Kingdom
CATEGORIES:Activities,Adults,Beyond Words
ATTACH;FMTTYPE=image/png:https://wecl.org.uk/wp-content/uploads/2025/05/Individuals-with-Learning-Disabilitie-Instagram-Post.png
END:VEVENT
BEGIN:VEVENT
DTSTART;TZID=UTC:20260204T103000
DTEND;TZID=UTC:20260204T113000
DTSTAMP:20260424T092420
CREATED:20250531T214754Z
LAST-MODIFIED:20260326T191738Z
UID:10000774-1770201000-1770204600@wecl.org.uk
SUMMARY:Books Beyond Words for Individuals with Learning Disabilities!
DESCRIPTION:🖼️✨ Join Our “Beyond Words” Workshop for Individuals with Learning Disabilities! ✨🖼️ \nAre you or someone you know seeking a creative and supportive way to communicate and learn? Join us at the library for our “Beyond Words” Workshop\, designed specifically for individuals with learning disabilities. \n🗓 Schedule: First Wednsday of each month\n10:30 AM \n📍 Location: West Ealing Community Library\, Melbourne Avenue \nWhat to Expect: \n\nExplore stories through captivating images\nEngage in group discussions and activities using pictures\nEnhance emotional intelligence and vocabulary through visual learning\n\nDon’t miss this opportunity to discover the power of pictures in communication and learning. Come and be part of our vibrant community! \n🧩✨ Let’s connect beyond words! ✨🧩 \nFollow us for updates: \n\n\n\n\n\n\n\n\n\n\n\n 
URL:https://wecl.org.uk/activities-and-events/books-beyond-words-for-individuals-with-learning-disabilities/2026-02-04/
LOCATION:West Ealing Community Library\, Melbourne Ave\, West Ealing\, London\, W13 9BT\, United Kingdom
CATEGORIES:Activities,Adults,Beyond Words
ATTACH;FMTTYPE=image/png:https://wecl.org.uk/wp-content/uploads/2025/05/Individuals-with-Learning-Disabilitie-Instagram-Post.png
END:VEVENT
BEGIN:VEVENT
DTSTART;TZID=UTC:20260304T103000
DTEND;TZID=UTC:20260304T113000
DTSTAMP:20260424T092420
CREATED:20250531T214754Z
LAST-MODIFIED:20260326T191738Z
UID:10000775-1772620200-1772623800@wecl.org.uk
SUMMARY:Books Beyond Words for Individuals with Learning Disabilities!
DESCRIPTION:🖼️✨ Join Our “Beyond Words” Workshop for Individuals with Learning Disabilities! ✨🖼️ \nAre you or someone you know seeking a creative and supportive way to communicate and learn? Join us at the library for our “Beyond Words” Workshop\, designed specifically for individuals with learning disabilities. \n🗓 Schedule: First Wednsday of each month\n10:30 AM \n📍 Location: West Ealing Community Library\, Melbourne Avenue \nWhat to Expect: \n\nExplore stories through captivating images\nEngage in group discussions and activities using pictures\nEnhance emotional intelligence and vocabulary through visual learning\n\nDon’t miss this opportunity to discover the power of pictures in communication and learning. Come and be part of our vibrant community! \n🧩✨ Let’s connect beyond words! ✨🧩 \nFollow us for updates: \n\n\n\n\n\n\n\n\n\n\n\n 
URL:https://wecl.org.uk/activities-and-events/books-beyond-words-for-individuals-with-learning-disabilities/2026-03-04/
LOCATION:West Ealing Community Library\, Melbourne Ave\, West Ealing\, London\, W13 9BT\, United Kingdom
CATEGORIES:Activities,Adults,Beyond Words
ATTACH;FMTTYPE=image/png:https://wecl.org.uk/wp-content/uploads/2025/05/Individuals-with-Learning-Disabilitie-Instagram-Post.png
END:VEVENT
BEGIN:VEVENT
DTSTART;TZID=UTC:20260401T103000
DTEND;TZID=UTC:20260401T113000
DTSTAMP:20260424T092420
CREATED:20250531T214754Z
LAST-MODIFIED:20260326T191738Z
UID:10000776-1775039400-1775043000@wecl.org.uk
SUMMARY:Books Beyond Words for Individuals with Learning Disabilities!
DESCRIPTION:🖼️✨ Join Our “Beyond Words” Workshop for Individuals with Learning Disabilities! ✨🖼️ \nAre you or someone you know seeking a creative and supportive way to communicate and learn? Join us at the library for our “Beyond Words” Workshop\, designed specifically for individuals with learning disabilities. \n🗓 Schedule: First Wednsday of each month\n10:30 AM \n📍 Location: West Ealing Community Library\, Melbourne Avenue \nWhat to Expect: \n\nExplore stories through captivating images\nEngage in group discussions and activities using pictures\nEnhance emotional intelligence and vocabulary through visual learning\n\nDon’t miss this opportunity to discover the power of pictures in communication and learning. Come and be part of our vibrant community! \n🧩✨ Let’s connect beyond words! ✨🧩 \nFollow us for updates: \n\n\n\n\n\n\n\n\n\n\n\n 
URL:https://wecl.org.uk/activities-and-events/books-beyond-words-for-individuals-with-learning-disabilities/2026-04-01/
LOCATION:West Ealing Community Library\, Melbourne Ave\, West Ealing\, London\, W13 9BT\, United Kingdom
CATEGORIES:Activities,Adults,Beyond Words
ATTACH;FMTTYPE=image/png:https://wecl.org.uk/wp-content/uploads/2025/05/Individuals-with-Learning-Disabilitie-Instagram-Post.png
END:VEVENT
END:VCALENDAR