BEGIN:VCALENDAR
VERSION:2.0
PRODID:-//West Ealing Library - ECPv6.15.20//NONSGML v1.0//EN
CALSCALE:GREGORIAN
METHOD:PUBLISH
X-ORIGINAL-URL:https://wecl.org.uk
X-WR-CALDESC:Events for West Ealing Library
REFRESH-INTERVAL;VALUE=DURATION:PT1H
X-Robots-Tag:noindex
X-PUBLISHED-TTL:PT1H
BEGIN:VTIMEZONE
TZID:UTC
BEGIN:STANDARD
TZOFFSETFROM:+0000
TZOFFSETTO:+0000
TZNAME:UTC
DTSTART:20250101T000000
END:STANDARD
END:VTIMEZONE
BEGIN:VTIMEZONE
TZID:Europe/London
BEGIN:DAYLIGHT
TZOFFSETFROM:+0000
TZOFFSETTO:+0100
TZNAME:BST
DTSTART:20250330T010000
END:DAYLIGHT
BEGIN:STANDARD
TZOFFSETFROM:+0100
TZOFFSETTO:+0000
TZNAME:GMT
DTSTART:20251026T010000
END:STANDARD
BEGIN:DAYLIGHT
TZOFFSETFROM:+0000
TZOFFSETTO:+0100
TZNAME:BST
DTSTART:20260329T010000
END:DAYLIGHT
BEGIN:STANDARD
TZOFFSETFROM:+0100
TZOFFSETTO:+0000
TZNAME:GMT
DTSTART:20261025T010000
END:STANDARD
BEGIN:DAYLIGHT
TZOFFSETFROM:+0000
TZOFFSETTO:+0100
TZNAME:BST
DTSTART:20270328T010000
END:DAYLIGHT
BEGIN:STANDARD
TZOFFSETFROM:+0100
TZOFFSETTO:+0000
TZNAME:GMT
DTSTART:20271031T010000
END:STANDARD
END:VTIMEZONE
BEGIN:VEVENT
DTSTART;TZID=UTC:20260422T100000
DTEND;TZID=UTC:20260422T170000
DTSTAMP:20260421T201116
CREATED:20250529T214252Z
LAST-MODIFIED:20260326T192737Z
UID:10001458-1776852000-1776877200@wecl.org.uk
SUMMARY:Customer Service Point
DESCRIPTION:New Weekly Community Hub Drop-In!Every Wednesday⏰ 10:00 AM – 5:00 PM ( Closed for Lunch 1:00 PM – 1:30 PM)📍 West Ealing Community Library \nEaling Council is launching a new weekly drop-in service – and everyone is welcome! 🙌 \nWhat You Can Access:✅ Information and advice about Council services✅ Help with completing online Council forms✅ Scanning and uploading documents✅ Support with unresolved Council queries✅ Foodbank vouchers and referrals \nWhether you need help with forms\, advice\, or just want to speak to someone in person – drop in any time between 10 and 5! \nFollow us for updates: \n\n\n\n\n\n\n\n\n\n\n\n 
URL:https://wecl.org.uk/activities-and-events/customer-service-point-4/2026-04-22/
LOCATION:West Ealing Community Library\, Melbourne Ave\, West Ealing\, London\, W13 9BT\, United Kingdom
CATEGORIES:Customer Service Point,Events
ATTACH;FMTTYPE=image/jpeg:https://wecl.org.uk/wp-content/uploads/2025/05/WECL-customer-service-point.jpg
END:VEVENT
BEGIN:VEVENT
DTSTART;TZID=Europe/London:20260425T100000
DTEND;TZID=Europe/London:20260425T160000
DTSTAMP:20260421T201116
CREATED:20260412T105613Z
LAST-MODIFIED:20260412T105613Z
UID:10002750-1777111200-1777132800@wecl.org.uk
SUMMARY:🎉🌸 Celebrate Spring at West Ealing Community Library! 🌸🎉
DESCRIPTION:Join us for a fun-filled day at the Spring Party hosted by West Ealing Community Library! Bring your friends\, family\, and neighbors for a vibrant celebration of community\, creativity\, and springtime joy. 🌼🎶 \n📅 When: Saturday 25th April⏰ Time: 10:00 AM – 4:00 PM📍 Where: Melbourne Avenue\, opposite Sainsbury’s in West Ealing \nHere’s what you can look forward to:🎵 Live music from local bands and musicians🎭 Children’s theatre show by Wonderful Adventure🎤 Spoken word performances🎨 Face painting fun🤝 Meet and connect with local community organisations \nIt’s the perfect way to celebrate spring and enjoy a lively day out in your community. Don’t miss it—we can’t wait to see you there! 🌷💛
URL:https://wecl.org.uk/activities-and-events/%f0%9f%8e%89%f0%9f%8c%b8-celebrate-spring-at-west-ealing-community-library-%f0%9f%8c%b8%f0%9f%8e%89/
CATEGORIES:Activities,Events,Kids
ATTACH;FMTTYPE=image/png:https://wecl.org.uk/wp-content/uploads/2026/04/WECL-Spring-party-poster.png
END:VEVENT
END:VCALENDAR