BEGIN:VCALENDAR
VERSION:2.0
PRODID:-//West Ealing Library - ECPv6.15.20//NONSGML v1.0//EN
CALSCALE:GREGORIAN
METHOD:PUBLISH
X-ORIGINAL-URL:https://wecl.org.uk
X-WR-CALDESC:Events for West Ealing Library
REFRESH-INTERVAL;VALUE=DURATION:PT1H
X-Robots-Tag:noindex
X-PUBLISHED-TTL:PT1H
BEGIN:VTIMEZONE
TZID:UTC
BEGIN:STANDARD
TZOFFSETFROM:+0000
TZOFFSETTO:+0000
TZNAME:UTC
DTSTART:20240101T000000
END:STANDARD
END:VTIMEZONE
BEGIN:VEVENT
DTSTART;TZID=UTC:20251029T100000
DTEND;TZID=UTC:20251029T170000
DTSTAMP:20260421T220628
CREATED:20250529T214252Z
LAST-MODIFIED:20260326T192737Z
UID:10000486-1761732000-1761757200@wecl.org.uk
SUMMARY:Customer Service Point
DESCRIPTION:New Weekly Community Hub Drop-In!Every Wednesday⏰ 10:00 AM – 5:00 PM ( Closed for Lunch 1:00 PM – 1:30 PM)📍 West Ealing Community Library \nEaling Council is launching a new weekly drop-in service – and everyone is welcome! 🙌 \nWhat You Can Access:✅ Information and advice about Council services✅ Help with completing online Council forms✅ Scanning and uploading documents✅ Support with unresolved Council queries✅ Foodbank vouchers and referrals \nWhether you need help with forms\, advice\, or just want to speak to someone in person – drop in any time between 10 and 5! \nFollow us for updates: \n\n\n\n\n\n\n\n\n\n\n\n 
URL:https://wecl.org.uk/activities-and-events/customer-service-point-4/2025-10-29/
LOCATION:West Ealing Community Library\, Melbourne Ave\, West Ealing\, London\, W13 9BT\, United Kingdom
CATEGORIES:Customer Service Point,Events
ATTACH;FMTTYPE=image/jpeg:https://wecl.org.uk/wp-content/uploads/2025/05/WECL-customer-service-point.jpg
END:VEVENT
BEGIN:VEVENT
DTSTART;TZID=UTC:20251022T100000
DTEND;TZID=UTC:20251022T170000
DTSTAMP:20260421T220628
CREATED:20250529T214252Z
LAST-MODIFIED:20260326T192737Z
UID:10000485-1761127200-1761152400@wecl.org.uk
SUMMARY:Customer Service Point
DESCRIPTION:New Weekly Community Hub Drop-In!Every Wednesday⏰ 10:00 AM – 5:00 PM ( Closed for Lunch 1:00 PM – 1:30 PM)📍 West Ealing Community Library \nEaling Council is launching a new weekly drop-in service – and everyone is welcome! 🙌 \nWhat You Can Access:✅ Information and advice about Council services✅ Help with completing online Council forms✅ Scanning and uploading documents✅ Support with unresolved Council queries✅ Foodbank vouchers and referrals \nWhether you need help with forms\, advice\, or just want to speak to someone in person – drop in any time between 10 and 5! \nFollow us for updates: \n\n\n\n\n\n\n\n\n\n\n\n 
URL:https://wecl.org.uk/activities-and-events/customer-service-point-4/2025-10-22/
LOCATION:West Ealing Community Library\, Melbourne Ave\, West Ealing\, London\, W13 9BT\, United Kingdom
CATEGORIES:Customer Service Point,Events
ATTACH;FMTTYPE=image/jpeg:https://wecl.org.uk/wp-content/uploads/2025/05/WECL-customer-service-point.jpg
END:VEVENT
BEGIN:VEVENT
DTSTART;TZID=UTC:20251015T100000
DTEND;TZID=UTC:20251015T170000
DTSTAMP:20260421T220628
CREATED:20250529T214252Z
LAST-MODIFIED:20260326T192737Z
UID:10000484-1760522400-1760547600@wecl.org.uk
SUMMARY:Customer Service Point
DESCRIPTION:New Weekly Community Hub Drop-In!Every Wednesday⏰ 10:00 AM – 5:00 PM ( Closed for Lunch 1:00 PM – 1:30 PM)📍 West Ealing Community Library \nEaling Council is launching a new weekly drop-in service – and everyone is welcome! 🙌 \nWhat You Can Access:✅ Information and advice about Council services✅ Help with completing online Council forms✅ Scanning and uploading documents✅ Support with unresolved Council queries✅ Foodbank vouchers and referrals \nWhether you need help with forms\, advice\, or just want to speak to someone in person – drop in any time between 10 and 5! \nFollow us for updates: \n\n\n\n\n\n\n\n\n\n\n\n 
URL:https://wecl.org.uk/activities-and-events/customer-service-point-4/2025-10-15/
LOCATION:West Ealing Community Library\, Melbourne Ave\, West Ealing\, London\, W13 9BT\, United Kingdom
CATEGORIES:Customer Service Point,Events
ATTACH;FMTTYPE=image/jpeg:https://wecl.org.uk/wp-content/uploads/2025/05/WECL-customer-service-point.jpg
END:VEVENT
BEGIN:VEVENT
DTSTART;TZID=UTC:20251008T100000
DTEND;TZID=UTC:20251008T170000
DTSTAMP:20260421T220628
CREATED:20250529T214252Z
LAST-MODIFIED:20260326T192737Z
UID:10000483-1759917600-1759942800@wecl.org.uk
SUMMARY:Customer Service Point
DESCRIPTION:New Weekly Community Hub Drop-In!Every Wednesday⏰ 10:00 AM – 5:00 PM ( Closed for Lunch 1:00 PM – 1:30 PM)📍 West Ealing Community Library \nEaling Council is launching a new weekly drop-in service – and everyone is welcome! 🙌 \nWhat You Can Access:✅ Information and advice about Council services✅ Help with completing online Council forms✅ Scanning and uploading documents✅ Support with unresolved Council queries✅ Foodbank vouchers and referrals \nWhether you need help with forms\, advice\, or just want to speak to someone in person – drop in any time between 10 and 5! \nFollow us for updates: \n\n\n\n\n\n\n\n\n\n\n\n 
URL:https://wecl.org.uk/activities-and-events/customer-service-point-4/2025-10-08/
LOCATION:West Ealing Community Library\, Melbourne Ave\, West Ealing\, London\, W13 9BT\, United Kingdom
CATEGORIES:Customer Service Point,Events
ATTACH;FMTTYPE=image/jpeg:https://wecl.org.uk/wp-content/uploads/2025/05/WECL-customer-service-point.jpg
END:VEVENT
BEGIN:VEVENT
DTSTART;TZID=UTC:20251001T100000
DTEND;TZID=UTC:20251001T170000
DTSTAMP:20260421T220628
CREATED:20250529T214252Z
LAST-MODIFIED:20260326T192737Z
UID:10000482-1759312800-1759338000@wecl.org.uk
SUMMARY:Customer Service Point
DESCRIPTION:New Weekly Community Hub Drop-In!Every Wednesday⏰ 10:00 AM – 5:00 PM ( Closed for Lunch 1:00 PM – 1:30 PM)📍 West Ealing Community Library \nEaling Council is launching a new weekly drop-in service – and everyone is welcome! 🙌 \nWhat You Can Access:✅ Information and advice about Council services✅ Help with completing online Council forms✅ Scanning and uploading documents✅ Support with unresolved Council queries✅ Foodbank vouchers and referrals \nWhether you need help with forms\, advice\, or just want to speak to someone in person – drop in any time between 10 and 5! \nFollow us for updates: \n\n\n\n\n\n\n\n\n\n\n\n 
URL:https://wecl.org.uk/activities-and-events/customer-service-point-4/2025-10-01/
LOCATION:West Ealing Community Library\, Melbourne Ave\, West Ealing\, London\, W13 9BT\, United Kingdom
CATEGORIES:Customer Service Point,Events
ATTACH;FMTTYPE=image/jpeg:https://wecl.org.uk/wp-content/uploads/2025/05/WECL-customer-service-point.jpg
END:VEVENT
BEGIN:VEVENT
DTSTART;TZID=UTC:20250924T100000
DTEND;TZID=UTC:20250924T170000
DTSTAMP:20260421T220628
CREATED:20250529T214252Z
LAST-MODIFIED:20260326T192737Z
UID:10000481-1758708000-1758733200@wecl.org.uk
SUMMARY:Customer Service Point
DESCRIPTION:New Weekly Community Hub Drop-In!Every Wednesday⏰ 10:00 AM – 5:00 PM ( Closed for Lunch 1:00 PM – 1:30 PM)📍 West Ealing Community Library \nEaling Council is launching a new weekly drop-in service – and everyone is welcome! 🙌 \nWhat You Can Access:✅ Information and advice about Council services✅ Help with completing online Council forms✅ Scanning and uploading documents✅ Support with unresolved Council queries✅ Foodbank vouchers and referrals \nWhether you need help with forms\, advice\, or just want to speak to someone in person – drop in any time between 10 and 5! \nFollow us for updates: \n\n\n\n\n\n\n\n\n\n\n\n 
URL:https://wecl.org.uk/activities-and-events/customer-service-point-4/2025-09-24/
LOCATION:West Ealing Community Library\, Melbourne Ave\, West Ealing\, London\, W13 9BT\, United Kingdom
CATEGORIES:Customer Service Point,Events
ATTACH;FMTTYPE=image/jpeg:https://wecl.org.uk/wp-content/uploads/2025/05/WECL-customer-service-point.jpg
END:VEVENT
BEGIN:VEVENT
DTSTART;TZID=UTC:20250917T100000
DTEND;TZID=UTC:20250917T170000
DTSTAMP:20260421T220628
CREATED:20250529T214252Z
LAST-MODIFIED:20260326T192737Z
UID:10000480-1758103200-1758128400@wecl.org.uk
SUMMARY:Customer Service Point
DESCRIPTION:New Weekly Community Hub Drop-In!Every Wednesday⏰ 10:00 AM – 5:00 PM ( Closed for Lunch 1:00 PM – 1:30 PM)📍 West Ealing Community Library \nEaling Council is launching a new weekly drop-in service – and everyone is welcome! 🙌 \nWhat You Can Access:✅ Information and advice about Council services✅ Help with completing online Council forms✅ Scanning and uploading documents✅ Support with unresolved Council queries✅ Foodbank vouchers and referrals \nWhether you need help with forms\, advice\, or just want to speak to someone in person – drop in any time between 10 and 5! \nFollow us for updates: \n\n\n\n\n\n\n\n\n\n\n\n 
URL:https://wecl.org.uk/activities-and-events/customer-service-point-4/2025-09-17/
LOCATION:West Ealing Community Library\, Melbourne Ave\, West Ealing\, London\, W13 9BT\, United Kingdom
CATEGORIES:Customer Service Point,Events
ATTACH;FMTTYPE=image/jpeg:https://wecl.org.uk/wp-content/uploads/2025/05/WECL-customer-service-point.jpg
END:VEVENT
BEGIN:VEVENT
DTSTART;TZID=UTC:20250910T100000
DTEND;TZID=UTC:20250910T170000
DTSTAMP:20260421T220628
CREATED:20250529T214252Z
LAST-MODIFIED:20260326T192737Z
UID:10000479-1757498400-1757523600@wecl.org.uk
SUMMARY:Customer Service Point
DESCRIPTION:New Weekly Community Hub Drop-In!Every Wednesday⏰ 10:00 AM – 5:00 PM ( Closed for Lunch 1:00 PM – 1:30 PM)📍 West Ealing Community Library \nEaling Council is launching a new weekly drop-in service – and everyone is welcome! 🙌 \nWhat You Can Access:✅ Information and advice about Council services✅ Help with completing online Council forms✅ Scanning and uploading documents✅ Support with unresolved Council queries✅ Foodbank vouchers and referrals \nWhether you need help with forms\, advice\, or just want to speak to someone in person – drop in any time between 10 and 5! \nFollow us for updates: \n\n\n\n\n\n\n\n\n\n\n\n 
URL:https://wecl.org.uk/activities-and-events/customer-service-point-4/2025-09-10/
LOCATION:West Ealing Community Library\, Melbourne Ave\, West Ealing\, London\, W13 9BT\, United Kingdom
CATEGORIES:Customer Service Point,Events
ATTACH;FMTTYPE=image/jpeg:https://wecl.org.uk/wp-content/uploads/2025/05/WECL-customer-service-point.jpg
END:VEVENT
BEGIN:VEVENT
DTSTART;TZID=UTC:20250903T100000
DTEND;TZID=UTC:20250903T170000
DTSTAMP:20260421T220628
CREATED:20250529T214252Z
LAST-MODIFIED:20260326T192737Z
UID:10000478-1756893600-1756918800@wecl.org.uk
SUMMARY:Customer Service Point
DESCRIPTION:New Weekly Community Hub Drop-In!Every Wednesday⏰ 10:00 AM – 5:00 PM ( Closed for Lunch 1:00 PM – 1:30 PM)📍 West Ealing Community Library \nEaling Council is launching a new weekly drop-in service – and everyone is welcome! 🙌 \nWhat You Can Access:✅ Information and advice about Council services✅ Help with completing online Council forms✅ Scanning and uploading documents✅ Support with unresolved Council queries✅ Foodbank vouchers and referrals \nWhether you need help with forms\, advice\, or just want to speak to someone in person – drop in any time between 10 and 5! \nFollow us for updates: \n\n\n\n\n\n\n\n\n\n\n\n 
URL:https://wecl.org.uk/activities-and-events/customer-service-point-4/2025-09-03/
LOCATION:West Ealing Community Library\, Melbourne Ave\, West Ealing\, London\, W13 9BT\, United Kingdom
CATEGORIES:Customer Service Point,Events
ATTACH;FMTTYPE=image/jpeg:https://wecl.org.uk/wp-content/uploads/2025/05/WECL-customer-service-point.jpg
END:VEVENT
BEGIN:VEVENT
DTSTART;TZID=UTC:20250827T100000
DTEND;TZID=UTC:20250827T170000
DTSTAMP:20260421T220628
CREATED:20250529T214252Z
LAST-MODIFIED:20260326T192737Z
UID:10000477-1756288800-1756314000@wecl.org.uk
SUMMARY:Customer Service Point
DESCRIPTION:New Weekly Community Hub Drop-In!Every Wednesday⏰ 10:00 AM – 5:00 PM ( Closed for Lunch 1:00 PM – 1:30 PM)📍 West Ealing Community Library \nEaling Council is launching a new weekly drop-in service – and everyone is welcome! 🙌 \nWhat You Can Access:✅ Information and advice about Council services✅ Help with completing online Council forms✅ Scanning and uploading documents✅ Support with unresolved Council queries✅ Foodbank vouchers and referrals \nWhether you need help with forms\, advice\, or just want to speak to someone in person – drop in any time between 10 and 5! \nFollow us for updates: \n\n\n\n\n\n\n\n\n\n\n\n 
URL:https://wecl.org.uk/activities-and-events/customer-service-point-4/2025-08-27/
LOCATION:West Ealing Community Library\, Melbourne Ave\, West Ealing\, London\, W13 9BT\, United Kingdom
CATEGORIES:Customer Service Point,Events
ATTACH;FMTTYPE=image/jpeg:https://wecl.org.uk/wp-content/uploads/2025/05/WECL-customer-service-point.jpg
END:VEVENT
BEGIN:VEVENT
DTSTART;TZID=UTC:20250820T100000
DTEND;TZID=UTC:20250820T170000
DTSTAMP:20260421T220628
CREATED:20250529T214252Z
LAST-MODIFIED:20260326T192737Z
UID:10000476-1755684000-1755709200@wecl.org.uk
SUMMARY:Customer Service Point
DESCRIPTION:New Weekly Community Hub Drop-In!Every Wednesday⏰ 10:00 AM – 5:00 PM ( Closed for Lunch 1:00 PM – 1:30 PM)📍 West Ealing Community Library \nEaling Council is launching a new weekly drop-in service – and everyone is welcome! 🙌 \nWhat You Can Access:✅ Information and advice about Council services✅ Help with completing online Council forms✅ Scanning and uploading documents✅ Support with unresolved Council queries✅ Foodbank vouchers and referrals \nWhether you need help with forms\, advice\, or just want to speak to someone in person – drop in any time between 10 and 5! \nFollow us for updates: \n\n\n\n\n\n\n\n\n\n\n\n 
URL:https://wecl.org.uk/activities-and-events/customer-service-point-4/2025-08-20/
LOCATION:West Ealing Community Library\, Melbourne Ave\, West Ealing\, London\, W13 9BT\, United Kingdom
CATEGORIES:Customer Service Point,Events
ATTACH;FMTTYPE=image/jpeg:https://wecl.org.uk/wp-content/uploads/2025/05/WECL-customer-service-point.jpg
END:VEVENT
BEGIN:VEVENT
DTSTART;TZID=UTC:20250813T100000
DTEND;TZID=UTC:20250813T170000
DTSTAMP:20260421T220628
CREATED:20250529T214252Z
LAST-MODIFIED:20260326T192737Z
UID:10000475-1755079200-1755104400@wecl.org.uk
SUMMARY:Customer Service Point
DESCRIPTION:New Weekly Community Hub Drop-In!Every Wednesday⏰ 10:00 AM – 5:00 PM ( Closed for Lunch 1:00 PM – 1:30 PM)📍 West Ealing Community Library \nEaling Council is launching a new weekly drop-in service – and everyone is welcome! 🙌 \nWhat You Can Access:✅ Information and advice about Council services✅ Help with completing online Council forms✅ Scanning and uploading documents✅ Support with unresolved Council queries✅ Foodbank vouchers and referrals \nWhether you need help with forms\, advice\, or just want to speak to someone in person – drop in any time between 10 and 5! \nFollow us for updates: \n\n\n\n\n\n\n\n\n\n\n\n 
URL:https://wecl.org.uk/activities-and-events/customer-service-point-4/2025-08-13/
LOCATION:West Ealing Community Library\, Melbourne Ave\, West Ealing\, London\, W13 9BT\, United Kingdom
CATEGORIES:Customer Service Point,Events
ATTACH;FMTTYPE=image/jpeg:https://wecl.org.uk/wp-content/uploads/2025/05/WECL-customer-service-point.jpg
END:VEVENT
BEGIN:VEVENT
DTSTART;TZID=UTC:20250806T100000
DTEND;TZID=UTC:20250806T170000
DTSTAMP:20260421T220628
CREATED:20250529T214252Z
LAST-MODIFIED:20260326T192737Z
UID:10000474-1754474400-1754499600@wecl.org.uk
SUMMARY:Customer Service Point
DESCRIPTION:New Weekly Community Hub Drop-In!Every Wednesday⏰ 10:00 AM – 5:00 PM ( Closed for Lunch 1:00 PM – 1:30 PM)📍 West Ealing Community Library \nEaling Council is launching a new weekly drop-in service – and everyone is welcome! 🙌 \nWhat You Can Access:✅ Information and advice about Council services✅ Help with completing online Council forms✅ Scanning and uploading documents✅ Support with unresolved Council queries✅ Foodbank vouchers and referrals \nWhether you need help with forms\, advice\, or just want to speak to someone in person – drop in any time between 10 and 5! \nFollow us for updates: \n\n\n\n\n\n\n\n\n\n\n\n 
URL:https://wecl.org.uk/activities-and-events/customer-service-point-4/2025-08-06/
LOCATION:West Ealing Community Library\, Melbourne Ave\, West Ealing\, London\, W13 9BT\, United Kingdom
CATEGORIES:Customer Service Point,Events
ATTACH;FMTTYPE=image/jpeg:https://wecl.org.uk/wp-content/uploads/2025/05/WECL-customer-service-point.jpg
END:VEVENT
BEGIN:VEVENT
DTSTART;TZID=UTC:20250730T100000
DTEND;TZID=UTC:20250730T170000
DTSTAMP:20260421T220628
CREATED:20250529T214252Z
LAST-MODIFIED:20260326T192737Z
UID:10000473-1753869600-1753894800@wecl.org.uk
SUMMARY:Customer Service Point
DESCRIPTION:New Weekly Community Hub Drop-In!Every Wednesday⏰ 10:00 AM – 5:00 PM ( Closed for Lunch 1:00 PM – 1:30 PM)📍 West Ealing Community Library \nEaling Council is launching a new weekly drop-in service – and everyone is welcome! 🙌 \nWhat You Can Access:✅ Information and advice about Council services✅ Help with completing online Council forms✅ Scanning and uploading documents✅ Support with unresolved Council queries✅ Foodbank vouchers and referrals \nWhether you need help with forms\, advice\, or just want to speak to someone in person – drop in any time between 10 and 5! \nFollow us for updates: \n\n\n\n\n\n\n\n\n\n\n\n 
URL:https://wecl.org.uk/activities-and-events/customer-service-point-4/2025-07-30/
LOCATION:West Ealing Community Library\, Melbourne Ave\, West Ealing\, London\, W13 9BT\, United Kingdom
CATEGORIES:Customer Service Point,Events
ATTACH;FMTTYPE=image/jpeg:https://wecl.org.uk/wp-content/uploads/2025/05/WECL-customer-service-point.jpg
END:VEVENT
BEGIN:VEVENT
DTSTART;TZID=UTC:20250723T100000
DTEND;TZID=UTC:20250723T170000
DTSTAMP:20260421T220628
CREATED:20250529T214252Z
LAST-MODIFIED:20260326T192737Z
UID:10000472-1753264800-1753290000@wecl.org.uk
SUMMARY:Customer Service Point
DESCRIPTION:New Weekly Community Hub Drop-In!Every Wednesday⏰ 10:00 AM – 5:00 PM ( Closed for Lunch 1:00 PM – 1:30 PM)📍 West Ealing Community Library \nEaling Council is launching a new weekly drop-in service – and everyone is welcome! 🙌 \nWhat You Can Access:✅ Information and advice about Council services✅ Help with completing online Council forms✅ Scanning and uploading documents✅ Support with unresolved Council queries✅ Foodbank vouchers and referrals \nWhether you need help with forms\, advice\, or just want to speak to someone in person – drop in any time between 10 and 5! \nFollow us for updates: \n\n\n\n\n\n\n\n\n\n\n\n 
URL:https://wecl.org.uk/activities-and-events/customer-service-point-4/2025-07-23/
LOCATION:West Ealing Community Library\, Melbourne Ave\, West Ealing\, London\, W13 9BT\, United Kingdom
CATEGORIES:Customer Service Point,Events
ATTACH;FMTTYPE=image/jpeg:https://wecl.org.uk/wp-content/uploads/2025/05/WECL-customer-service-point.jpg
END:VEVENT
BEGIN:VEVENT
DTSTART;TZID=UTC:20250716T100000
DTEND;TZID=UTC:20250716T170000
DTSTAMP:20260421T220628
CREATED:20250529T214252Z
LAST-MODIFIED:20260326T192737Z
UID:10000471-1752660000-1752685200@wecl.org.uk
SUMMARY:Customer Service Point
DESCRIPTION:New Weekly Community Hub Drop-In!Every Wednesday⏰ 10:00 AM – 5:00 PM ( Closed for Lunch 1:00 PM – 1:30 PM)📍 West Ealing Community Library \nEaling Council is launching a new weekly drop-in service – and everyone is welcome! 🙌 \nWhat You Can Access:✅ Information and advice about Council services✅ Help with completing online Council forms✅ Scanning and uploading documents✅ Support with unresolved Council queries✅ Foodbank vouchers and referrals \nWhether you need help with forms\, advice\, or just want to speak to someone in person – drop in any time between 10 and 5! \nFollow us for updates: \n\n\n\n\n\n\n\n\n\n\n\n 
URL:https://wecl.org.uk/activities-and-events/customer-service-point-4/2025-07-16/
LOCATION:West Ealing Community Library\, Melbourne Ave\, West Ealing\, London\, W13 9BT\, United Kingdom
CATEGORIES:Customer Service Point,Events
ATTACH;FMTTYPE=image/jpeg:https://wecl.org.uk/wp-content/uploads/2025/05/WECL-customer-service-point.jpg
END:VEVENT
BEGIN:VEVENT
DTSTART;TZID=UTC:20250709T100000
DTEND;TZID=UTC:20250709T170000
DTSTAMP:20260421T220628
CREATED:20250529T214252Z
LAST-MODIFIED:20260326T192737Z
UID:10000470-1752055200-1752080400@wecl.org.uk
SUMMARY:Customer Service Point
DESCRIPTION:New Weekly Community Hub Drop-In!Every Wednesday⏰ 10:00 AM – 5:00 PM ( Closed for Lunch 1:00 PM – 1:30 PM)📍 West Ealing Community Library \nEaling Council is launching a new weekly drop-in service – and everyone is welcome! 🙌 \nWhat You Can Access:✅ Information and advice about Council services✅ Help with completing online Council forms✅ Scanning and uploading documents✅ Support with unresolved Council queries✅ Foodbank vouchers and referrals \nWhether you need help with forms\, advice\, or just want to speak to someone in person – drop in any time between 10 and 5! \nFollow us for updates: \n\n\n\n\n\n\n\n\n\n\n\n 
URL:https://wecl.org.uk/activities-and-events/customer-service-point-4/2025-07-09/
LOCATION:West Ealing Community Library\, Melbourne Ave\, West Ealing\, London\, W13 9BT\, United Kingdom
CATEGORIES:Customer Service Point,Events
ATTACH;FMTTYPE=image/jpeg:https://wecl.org.uk/wp-content/uploads/2025/05/WECL-customer-service-point.jpg
END:VEVENT
BEGIN:VEVENT
DTSTART;TZID=UTC:20250702T100000
DTEND;TZID=UTC:20250702T170000
DTSTAMP:20260421T220628
CREATED:20250529T214252Z
LAST-MODIFIED:20260326T192737Z
UID:10000469-1751450400-1751475600@wecl.org.uk
SUMMARY:Customer Service Point
DESCRIPTION:New Weekly Community Hub Drop-In!Every Wednesday⏰ 10:00 AM – 5:00 PM ( Closed for Lunch 1:00 PM – 1:30 PM)📍 West Ealing Community Library \nEaling Council is launching a new weekly drop-in service – and everyone is welcome! 🙌 \nWhat You Can Access:✅ Information and advice about Council services✅ Help with completing online Council forms✅ Scanning and uploading documents✅ Support with unresolved Council queries✅ Foodbank vouchers and referrals \nWhether you need help with forms\, advice\, or just want to speak to someone in person – drop in any time between 10 and 5! \nFollow us for updates: \n\n\n\n\n\n\n\n\n\n\n\n 
URL:https://wecl.org.uk/activities-and-events/customer-service-point-4/2025-07-02/
LOCATION:West Ealing Community Library\, Melbourne Ave\, West Ealing\, London\, W13 9BT\, United Kingdom
CATEGORIES:Customer Service Point,Events
ATTACH;FMTTYPE=image/jpeg:https://wecl.org.uk/wp-content/uploads/2025/05/WECL-customer-service-point.jpg
END:VEVENT
BEGIN:VEVENT
DTSTART;TZID=UTC:20250625T100000
DTEND;TZID=UTC:20250625T170000
DTSTAMP:20260421T220628
CREATED:20250529T214252Z
LAST-MODIFIED:20260326T192737Z
UID:10000378-1750845600-1750870800@wecl.org.uk
SUMMARY:Customer Service Point
DESCRIPTION:New Weekly Community Hub Drop-In!Every Wednesday⏰ 10:00 AM – 5:00 PM ( Closed for Lunch 1:00 PM – 1:30 PM)📍 West Ealing Community Library \nEaling Council is launching a new weekly drop-in service – and everyone is welcome! 🙌 \nWhat You Can Access:✅ Information and advice about Council services✅ Help with completing online Council forms✅ Scanning and uploading documents✅ Support with unresolved Council queries✅ Foodbank vouchers and referrals \nWhether you need help with forms\, advice\, or just want to speak to someone in person – drop in any time between 10 and 5! \nFollow us for updates: \n\n\n\n\n\n\n\n\n\n\n\n 
URL:https://wecl.org.uk/activities-and-events/customer-service-point-4/2025-06-25/
LOCATION:West Ealing Community Library\, Melbourne Ave\, West Ealing\, London\, W13 9BT\, United Kingdom
CATEGORIES:Customer Service Point,Events
ATTACH;FMTTYPE=image/jpeg:https://wecl.org.uk/wp-content/uploads/2025/05/WECL-customer-service-point.jpg
END:VEVENT
BEGIN:VEVENT
DTSTART;TZID=UTC:20250618T100000
DTEND;TZID=UTC:20250618T170000
DTSTAMP:20260421T220628
CREATED:20250529T214245Z
LAST-MODIFIED:20250529T214245Z
UID:10000379-1750240800-1750266000@wecl.org.uk
SUMMARY:Customer Service Point
DESCRIPTION:New Weekly Community Hub Drop-In!Every Wednesday⏰ 10:00 AM – 5:00 PM ( Closed for Lunch 1:00 PM – 1:30 PM)📍 West Ealing Community Library \nEaling Council is launching a new weekly drop-in service – and everyone is welcome! 🙌 \nWhat You Can Access:✅ Information and advice about Council services✅ Help with completing online Council forms✅ Scanning and uploading documents✅ Support with unresolved Council queries✅ Foodbank vouchers and referrals \nWhether you need help with forms\, advice\, or just want to speak to someone in person – drop in any time between 10 and 5! \nFollow Us On: \n\nWebsite\nInstagram\nFacebook\nX (Twitter)\nLinkedIn
URL:https://wecl.org.uk/activities-and-events/customer-service-point-3/
LOCATION:West Ealing Community Library\, Melbourne Ave\, West Ealing\, London\, W13 9BT\, United Kingdom
CATEGORIES:Customer Service Point,Events
ATTACH;FMTTYPE=image/jpeg:https://wecl.org.uk/wp-content/uploads/2025/05/WECL-customer-service-point.jpg
END:VEVENT
BEGIN:VEVENT
DTSTART;TZID=UTC:20250611T100000
DTEND;TZID=UTC:20250611T170000
DTSTAMP:20260421T220628
CREATED:20250529T214238Z
LAST-MODIFIED:20250529T214238Z
UID:10000377-1749636000-1749661200@wecl.org.uk
SUMMARY:Customer Service Point
DESCRIPTION:New Weekly Community Hub Drop-In!Every Wednesday⏰ 10:00 AM – 5:00 PM ( Closed for Lunch 1:00 PM – 1:30 PM)📍 West Ealing Community Library \nEaling Council is launching a new weekly drop-in service – and everyone is welcome! 🙌 \nWhat You Can Access:✅ Information and advice about Council services✅ Help with completing online Council forms✅ Scanning and uploading documents✅ Support with unresolved Council queries✅ Foodbank vouchers and referrals \nWhether you need help with forms\, advice\, or just want to speak to someone in person – drop in any time between 10 and 5! \nFollow Us On: \n\nWebsite\nInstagram\nFacebook\nX (Twitter)\nLinkedIn
URL:https://wecl.org.uk/activities-and-events/customer-service-point-2/
LOCATION:West Ealing Community Library\, Melbourne Ave\, West Ealing\, London\, W13 9BT\, United Kingdom
CATEGORIES:Customer Service Point,Events
ATTACH;FMTTYPE=image/jpeg:https://wecl.org.uk/wp-content/uploads/2025/05/WECL-customer-service-point.jpg
END:VEVENT
BEGIN:VEVENT
DTSTART;TZID=UTC:20250604T100000
DTEND;TZID=UTC:20250604T170000
DTSTAMP:20260421T220628
CREATED:20250529T214210Z
LAST-MODIFIED:20250529T214210Z
UID:10000376-1749031200-1749056400@wecl.org.uk
SUMMARY:Customer Service Point
DESCRIPTION:New Weekly Community Hub Drop-In!Every Wednesday⏰ 10:00 AM – 5:00 PM ( Closed for Lunch 1:00 PM – 1:30 PM)📍 West Ealing Community Library \nEaling Council is launching a new weekly drop-in service – and everyone is welcome! 🙌 \nWhat You Can Access:✅ Information and advice about Council services✅ Help with completing online Council forms✅ Scanning and uploading documents✅ Support with unresolved Council queries✅ Foodbank vouchers and referrals \nWhether you need help with forms\, advice\, or just want to speak to someone in person – drop in any time between 10 and 5! \nFollow Us On: \n\nWebsite\nInstagram\nFacebook\nX (Twitter)\nLinkedIn
URL:https://wecl.org.uk/activities-and-events/customer-service-point/
LOCATION:West Ealing Community Library\, Melbourne Ave\, West Ealing\, London\, W13 9BT\, United Kingdom
CATEGORIES:Customer Service Point,Events
ATTACH;FMTTYPE=image/jpeg:https://wecl.org.uk/wp-content/uploads/2025/05/WECL-customer-service-point.jpg
END:VEVENT
END:VCALENDAR