BEGIN:VCALENDAR
VERSION:2.0
PRODID:-//West Ealing Library - ECPv6.15.20//NONSGML v1.0//EN
CALSCALE:GREGORIAN
METHOD:PUBLISH
X-ORIGINAL-URL:https://wecl.org.uk
X-WR-CALDESC:Events for West Ealing Library
REFRESH-INTERVAL;VALUE=DURATION:PT1H
X-Robots-Tag:noindex
X-PUBLISHED-TTL:PT1H
BEGIN:VTIMEZONE
TZID:Europe/London
BEGIN:DAYLIGHT
TZOFFSETFROM:+0000
TZOFFSETTO:+0100
TZNAME:BST
DTSTART:20250330T010000
END:DAYLIGHT
BEGIN:STANDARD
TZOFFSETFROM:+0100
TZOFFSETTO:+0000
TZNAME:GMT
DTSTART:20251026T010000
END:STANDARD
BEGIN:DAYLIGHT
TZOFFSETFROM:+0000
TZOFFSETTO:+0100
TZNAME:BST
DTSTART:20260329T010000
END:DAYLIGHT
BEGIN:STANDARD
TZOFFSETFROM:+0100
TZOFFSETTO:+0000
TZNAME:GMT
DTSTART:20261025T010000
END:STANDARD
BEGIN:DAYLIGHT
TZOFFSETFROM:+0000
TZOFFSETTO:+0100
TZNAME:BST
DTSTART:20270328T010000
END:DAYLIGHT
BEGIN:STANDARD
TZOFFSETFROM:+0100
TZOFFSETTO:+0000
TZNAME:GMT
DTSTART:20271031T010000
END:STANDARD
END:VTIMEZONE
BEGIN:VTIMEZONE
TZID:UTC
BEGIN:STANDARD
TZOFFSETFROM:+0000
TZOFFSETTO:+0000
TZNAME:UTC
DTSTART:20250101T000000
END:STANDARD
END:VTIMEZONE
BEGIN:VEVENT
DTSTART;TZID=Europe/London:20260217T120000
DTEND;TZID=Europe/London:20260217T123000
DTSTAMP:20260426T023408
CREATED:20260202T225950Z
LAST-MODIFIED:20260202T225950Z
UID:10001127-1771329600-1771331400@wecl.org.uk
SUMMARY:Puppet Storytelling session with Puppets and Judy
DESCRIPTION:Join us this half term for a magical puppet storytelling session with Puppets and Judy! 🌱✨ \nChildren will enjoy the classic tale of Jack and the Beanstalk in a fun\, interactive puppet show—perfect for little ones. \n📅 Tuesday 17th February⏰ 12:00 PM⏱️ 30-minute show👧🧒 Suitable for ages 4+📍 West Ealing Community Library\, Melbourne Avenue\, W13 9BT \n🎉 No booking required – just drop in and enjoy!
URL:https://wecl.org.uk/activities-and-events/puppet-storytelling-session-with-puppets-and-judy/
CATEGORIES:Activities,Kids,Puppet Stories for Children
ATTACH;FMTTYPE=image/jpeg:https://wecl.org.uk/wp-content/uploads/2026/02/Jack-and-The-Beantalk-Instagram-Post.jpg
END:VEVENT
BEGIN:VEVENT
DTSTART;TZID=UTC:20260218T140000
DTEND;TZID=UTC:20260218T154500
DTSTAMP:20260426T023408
CREATED:20250531T215111Z
LAST-MODIFIED:20260326T191832Z
UID:10000583-1771423200-1771429500@wecl.org.uk
SUMMARY:Chess Club
DESCRIPTION:♟️✨ Chess Club at West Ealing Library! ✨♟️ \nAttention chess enthusiasts! Join us at West Ealing Library for our Chess Club sessions and put your strategic skills to the test! \n🗓 When: \n\nWednesdays: 2:00 PM – 3:45 PM\n\n📍 Where: West Ealing Library\, Melbourne Avenue \nWhat to Expect: \n\nChallenging games and friendly competition\nOpportunities to improve your chess skills\nFun and engaging sessions for all levels\n\nWhether you’re a seasoned player or just starting out\, come and enjoy the game of chess with fellow enthusiasts. See you there! \n♟️🧠 Let the games begin! 🧠♟️ \nFollow us for updates: \n\n\n\n\n\n\n\n\n\n\n\n 
URL:https://wecl.org.uk/activities-and-events/chess-club-47/2026-02-18/
LOCATION:West Ealing Community Library\, Melbourne Ave\, West Ealing\, London\, W13 9BT\, United Kingdom
CATEGORIES:Activities,Adults,Chess Club,Kids
ATTACH;FMTTYPE=image/png:https://wecl.org.uk/wp-content/uploads/2025/02/Grey-Black-And-White-Abstract-Chess-Tournament-Instagram-Post.png
END:VEVENT
BEGIN:VEVENT
DTSTART;TZID=UTC:20260219T123000
DTEND;TZID=UTC:20260219T124500
DTSTAMP:20260426T023408
CREATED:20250531T215721Z
LAST-MODIFIED:20260326T191930Z
UID:10002225-1771504200-1771505100@wecl.org.uk
SUMMARY:Toddler & Children’s Arts and Crafts
DESCRIPTION:🖍️✂️  Toddler & Children’s Arts and Crafts Session at West Ealing Library ✂️🖍️ \nJoin us for a fun weekly arts and crafts drop-in session\, led by Safia\, and aimed at toddlers and young children. \n🗓 When: Thursdays (starting 19th March)🕒 Time: 12:30 PM – 2:00 PM📍 Where: West Ealing Library\, Melbourne Avenue \nCome along and enjoy a creative session where little ones can explore arts and crafts in a friendly space. 🎨 \nJoin us for a morning of imaginative activities and hands-on projects. Perfect for kids to explore their creativity and make new friends! \nFollow us for updates: \n\n\n\n\n\n\n\n\n\n\n\n 
URL:https://wecl.org.uk/activities-and-events/childrens-arts-and-crafts-37/2026-02-19/
LOCATION:West Ealing Community Library\, Melbourne Ave\, West Ealing\, London\, W13 9BT\, United Kingdom
CATEGORIES:Activities,Art and craft,Kids
ATTACH;FMTTYPE=image/png:https://wecl.org.uk/wp-content/uploads/2025/05/Green-Blue-ColorPlayful-Craft-Class-for-Kids-Classroom-Poster.png
END:VEVENT
END:VCALENDAR