BEGIN:VCALENDAR
VERSION:2.0
PRODID:-//West Ealing Library - ECPv6.15.20//NONSGML v1.0//EN
CALSCALE:GREGORIAN
METHOD:PUBLISH
X-WR-CALNAME:West Ealing Library
X-ORIGINAL-URL:https://wecl.org.uk
X-WR-CALDESC:Events for West Ealing Library
REFRESH-INTERVAL;VALUE=DURATION:PT1H
X-Robots-Tag:noindex
X-PUBLISHED-TTL:PT1H
BEGIN:VTIMEZONE
TZID:Europe/London
BEGIN:DAYLIGHT
TZOFFSETFROM:+0000
TZOFFSETTO:+0100
TZNAME:BST
DTSTART:20250330T010000
END:DAYLIGHT
BEGIN:STANDARD
TZOFFSETFROM:+0100
TZOFFSETTO:+0000
TZNAME:GMT
DTSTART:20251026T010000
END:STANDARD
BEGIN:DAYLIGHT
TZOFFSETFROM:+0000
TZOFFSETTO:+0100
TZNAME:BST
DTSTART:20260329T010000
END:DAYLIGHT
BEGIN:STANDARD
TZOFFSETFROM:+0100
TZOFFSETTO:+0000
TZNAME:GMT
DTSTART:20261025T010000
END:STANDARD
BEGIN:DAYLIGHT
TZOFFSETFROM:+0000
TZOFFSETTO:+0100
TZNAME:BST
DTSTART:20270328T010000
END:DAYLIGHT
BEGIN:STANDARD
TZOFFSETFROM:+0100
TZOFFSETTO:+0000
TZNAME:GMT
DTSTART:20271031T010000
END:STANDARD
END:VTIMEZONE
BEGIN:VEVENT
DTSTART;TZID=Europe/London:20260307T103000
DTEND;TZID=Europe/London:20260307T133000
DTSTAMP:20260426T010223
CREATED:20260226T005005Z
LAST-MODIFIED:20260226T005005Z
UID:10002190-1772879400-1772890200@wecl.org.uk
SUMMARY:World Book Day Celebration
DESCRIPTION:Join us for a special World Book Day Celebration at West Ealing Community Library! 📖💛 \nWorld Book Day officially takes place on Saturday 7th March with a fun-filled morning of stories\, creativity and imagination. \nChildren can enjoy exciting activities\, arts & crafts\, and lots of book-inspired fun in a welcoming community space. \n📅 Saturday 7th March\n⏰ 10:30 AM – 1:30 PM\n👧🧒 For children aged 5–12\n📍 West Ealing Community Library \n🎉 Free event \n⚠️ Important: Children must be registered in advance by a responsible adult for safeguarding purposes.\nPlease book your space using the link below before attending. \nhttps://theproperproject.org.uk/events \nWe can’t wait to celebrate the joy of reading with you! 📖💛 \n 
URL:https://wecl.org.uk/activities-and-events/world-book-day-celebration/
CATEGORIES:Activities,Kids
ATTACH;FMTTYPE=image/png:https://wecl.org.uk/wp-content/uploads/2026/02/Untitled-design-8.png
END:VEVENT
END:VCALENDAR