BEGIN:VCALENDAR
VERSION:2.0
PRODID:-//West Ealing Library - ECPv6.15.20//NONSGML v1.0//EN
CALSCALE:GREGORIAN
METHOD:PUBLISH
X-WR-CALNAME:West Ealing Library
X-ORIGINAL-URL:https://wecl.org.uk
X-WR-CALDESC:Events for West Ealing Library
REFRESH-INTERVAL;VALUE=DURATION:PT1H
X-Robots-Tag:noindex
X-PUBLISHED-TTL:PT1H
BEGIN:VTIMEZONE
TZID:UTC
BEGIN:STANDARD
TZOFFSETFROM:+0000
TZOFFSETTO:+0000
TZNAME:UTC
DTSTART:20230101T000000
END:STANDARD
END:VTIMEZONE
BEGIN:VEVENT
DTSTART;TZID=UTC:20250220T103000
DTEND;TZID=UTC:20250220T114500
DTSTAMP:20260426T020954
CREATED:20250208T145131Z
LAST-MODIFIED:20250208T145131Z
UID:10000244-1740047400-1740051900@wecl.org.uk
SUMMARY:Children's Arts and Crafts
DESCRIPTION:🖍️✂️ Children’s Arts and Crafts at West Ealing Library! ✂️🖍️ \nGet creative with us every Thursday and let your little ones enjoy a fun-filled arts and crafts session! \n🗓 When: Thursdays\n🕒 Time: 10:30 AM – 11:45 AM\n📍 Where: West Ealing Library\, Melbourne Avenue \nJoin us for a morning of imaginative activities and hands-on projects. Perfect for kids to explore their creativity and make new friends! \n  \nFollow Us On: \n\nWebsite\nInstagram\nFacebook\nX (Twitter)\nLinkedIn
URL:https://wecl.org.uk/activities-and-events/childrens-arts-and-crafts-19/
LOCATION:West Ealing Community Library\, Melbourne Ave\, West Ealing\, London\, W13 9BT\, United Kingdom
CATEGORIES:Activities,Art and craft,Kids
ATTACH;FMTTYPE=image/png:https://wecl.org.uk/wp-content/uploads/2024/08/Green-Blue-ColorPlayful-Craft-Class-for-Kids-Classroom-Poster.png
END:VEVENT
BEGIN:VEVENT
DTSTART;TZID=UTC:20250213T103000
DTEND;TZID=UTC:20250213T114500
DTSTAMP:20260426T020954
CREATED:20250208T145121Z
LAST-MODIFIED:20250208T145121Z
UID:10000245-1739442600-1739447100@wecl.org.uk
SUMMARY:Children's Arts and Crafts
DESCRIPTION:🖍️✂️ Children’s Arts and Crafts at West Ealing Library! ✂️🖍️ \nGet creative with us every Thursday and let your little ones enjoy a fun-filled arts and crafts session! \n🗓 When: Thursdays\n🕒 Time: 10:30 AM – 11:45 AM\n📍 Where: West Ealing Library\, Melbourne Avenue \nJoin us for a morning of imaginative activities and hands-on projects. Perfect for kids to explore their creativity and make new friends! \n  \nFollow Us On: \n\nWebsite\nInstagram\nFacebook\nX (Twitter)\nLinkedIn
URL:https://wecl.org.uk/activities-and-events/childrens-arts-and-crafts-18/
LOCATION:West Ealing Community Library\, Melbourne Ave\, West Ealing\, London\, W13 9BT\, United Kingdom
CATEGORIES:Activities,Art and craft,Kids
ATTACH;FMTTYPE=image/png:https://wecl.org.uk/wp-content/uploads/2024/08/Green-Blue-ColorPlayful-Craft-Class-for-Kids-Classroom-Poster.png
END:VEVENT
BEGIN:VEVENT
DTSTART;TZID=UTC:20250206T103000
DTEND;TZID=UTC:20250206T114500
DTSTAMP:20260426T020954
CREATED:20250208T145114Z
LAST-MODIFIED:20250208T145114Z
UID:10000243-1738837800-1738842300@wecl.org.uk
SUMMARY:Children's Arts and Crafts
DESCRIPTION:🖍️✂️ Children’s Arts and Crafts at West Ealing Library! ✂️🖍️ \nGet creative with us every Thursday and let your little ones enjoy a fun-filled arts and crafts session! \n🗓 When: Thursdays\n🕒 Time: 10:30 AM – 11:45 AM\n📍 Where: West Ealing Library\, Melbourne Avenue \nJoin us for a morning of imaginative activities and hands-on projects. Perfect for kids to explore their creativity and make new friends! \n  \nFollow Us On: \n\nWebsite\nInstagram\nFacebook\nX (Twitter)\nLinkedIn
URL:https://wecl.org.uk/activities-and-events/childrens-arts-and-crafts-17/
LOCATION:West Ealing Community Library\, Melbourne Ave\, West Ealing\, London\, W13 9BT\, United Kingdom
CATEGORIES:Activities,Art and craft,Kids
ATTACH;FMTTYPE=image/png:https://wecl.org.uk/wp-content/uploads/2024/08/Green-Blue-ColorPlayful-Craft-Class-for-Kids-Classroom-Poster.png
END:VEVENT
BEGIN:VEVENT
DTSTART;TZID=UTC:20250130T103000
DTEND;TZID=UTC:20250130T114500
DTSTAMP:20260426T020954
CREATED:20250110T214128Z
LAST-MODIFIED:20250110T214128Z
UID:10000187-1738233000-1738237500@wecl.org.uk
SUMMARY:Children's Arts and Crafts
DESCRIPTION:🖍️✂️ Children’s Arts and Crafts at West Ealing Library! ✂️🖍️ \nGet creative with us every Thursday and let your little ones enjoy a fun-filled arts and crafts session! \n🗓 When: Thursdays\n🕒 Time: 10:30 AM – 11:45 AM\n📍 Where: West Ealing Library\, Melbourne Avenue \nJoin us for a morning of imaginative activities and hands-on projects. Perfect for kids to explore their creativity and make new friends! \n  \nFollow Us On: \n\nWebsite\nInstagram\nFacebook\nX (Twitter)\nLinkedIn
URL:https://wecl.org.uk/activities-and-events/childrens-arts-and-crafts-16/
LOCATION:West Ealing Community Library\, Melbourne Ave\, West Ealing\, London\, W13 9BT\, United Kingdom
CATEGORIES:Activities,Art and craft,Kids
ATTACH;FMTTYPE=image/png:https://wecl.org.uk/wp-content/uploads/2024/08/Green-Blue-ColorPlayful-Craft-Class-for-Kids-Classroom-Poster.png
END:VEVENT
BEGIN:VEVENT
DTSTART;TZID=UTC:20250123T103000
DTEND;TZID=UTC:20250123T114500
DTSTAMP:20260426T020954
CREATED:20250110T214059Z
LAST-MODIFIED:20250110T214059Z
UID:10000186-1737628200-1737632700@wecl.org.uk
SUMMARY:Children's Arts and Crafts
DESCRIPTION:🖍️✂️ Children’s Arts and Crafts at West Ealing Library! ✂️🖍️ \nGet creative with us every Thursday and let your little ones enjoy a fun-filled arts and crafts session! \n🗓 When: Thursdays\n🕒 Time: 10:30 AM – 11:45 AM\n📍 Where: West Ealing Library\, Melbourne Avenue \nJoin us for a morning of imaginative activities and hands-on projects. Perfect for kids to explore their creativity and make new friends! \n  \nFollow Us On: \n\nWebsite\nInstagram\nFacebook\nX (Twitter)\nLinkedIn
URL:https://wecl.org.uk/activities-and-events/childrens-arts-and-crafts-15/
LOCATION:West Ealing Community Library\, Melbourne Ave\, West Ealing\, London\, W13 9BT\, United Kingdom
CATEGORIES:Activities,Art and craft,Kids
ATTACH;FMTTYPE=image/png:https://wecl.org.uk/wp-content/uploads/2024/08/Green-Blue-ColorPlayful-Craft-Class-for-Kids-Classroom-Poster.png
END:VEVENT
BEGIN:VEVENT
DTSTART;TZID=UTC:20250116T103000
DTEND;TZID=UTC:20250116T114500
DTSTAMP:20260426T020954
CREATED:20250110T214052Z
LAST-MODIFIED:20250110T214052Z
UID:10000183-1737023400-1737027900@wecl.org.uk
SUMMARY:Children's Arts and Crafts
DESCRIPTION:🖍️✂️ Children’s Arts and Crafts at West Ealing Library! ✂️🖍️ \nGet creative with us every Thursday and let your little ones enjoy a fun-filled arts and crafts session! \n🗓 When: Thursdays\n🕒 Time: 10:30 AM – 11:45 AM\n📍 Where: West Ealing Library\, Melbourne Avenue \nJoin us for a morning of imaginative activities and hands-on projects. Perfect for kids to explore their creativity and make new friends! \n  \nFollow Us On: \n\nWebsite\nInstagram\nFacebook\nX (Twitter)\nLinkedIn
URL:https://wecl.org.uk/activities-and-events/childrens-arts-and-crafts-14/
LOCATION:West Ealing Community Library\, Melbourne Ave\, West Ealing\, London\, W13 9BT\, United Kingdom
CATEGORIES:Activities,Art and craft,Kids
ATTACH;FMTTYPE=image/png:https://wecl.org.uk/wp-content/uploads/2024/08/Green-Blue-ColorPlayful-Craft-Class-for-Kids-Classroom-Poster.png
END:VEVENT
BEGIN:VEVENT
DTSTART;TZID=UTC:20250109T103000
DTEND;TZID=UTC:20250109T114500
DTSTAMP:20260426T020954
CREATED:20250110T214044Z
LAST-MODIFIED:20250110T214044Z
UID:10000184-1736418600-1736423100@wecl.org.uk
SUMMARY:Children's Arts and Crafts
DESCRIPTION:🖍️✂️ Children’s Arts and Crafts at West Ealing Library! ✂️🖍️ \nGet creative with us every Thursday and let your little ones enjoy a fun-filled arts and crafts session! \n🗓 When: Thursdays\n🕒 Time: 10:30 AM – 11:45 AM\n📍 Where: West Ealing Library\, Melbourne Avenue \nJoin us for a morning of imaginative activities and hands-on projects. Perfect for kids to explore their creativity and make new friends! \n  \nFollow Us On: \n\nWebsite\nInstagram\nFacebook\nX (Twitter)\nLinkedIn
URL:https://wecl.org.uk/activities-and-events/childrens-arts-and-crafts-13/
LOCATION:West Ealing Community Library\, Melbourne Ave\, West Ealing\, London\, W13 9BT\, United Kingdom
CATEGORIES:Activities,Art and craft,Kids
ATTACH;FMTTYPE=image/png:https://wecl.org.uk/wp-content/uploads/2024/08/Green-Blue-ColorPlayful-Craft-Class-for-Kids-Classroom-Poster.png
END:VEVENT
BEGIN:VEVENT
DTSTART;TZID=UTC:20250102T103000
DTEND;TZID=UTC:20250102T114500
DTSTAMP:20260426T020954
CREATED:20250110T214035Z
LAST-MODIFIED:20250110T214035Z
UID:10000185-1735813800-1735818300@wecl.org.uk
SUMMARY:Children's Arts and Crafts
DESCRIPTION:🖍️✂️ Children’s Arts and Crafts at West Ealing Library! ✂️🖍️ \nGet creative with us every Thursday and let your little ones enjoy a fun-filled arts and crafts session! \n🗓 When: Thursdays\n🕒 Time: 10:30 AM – 11:45 AM\n📍 Where: West Ealing Library\, Melbourne Avenue \nJoin us for a morning of imaginative activities and hands-on projects. Perfect for kids to explore their creativity and make new friends! \n  \nFollow Us On: \n\nWebsite\nInstagram\nFacebook\nX (Twitter)\nLinkedIn
URL:https://wecl.org.uk/activities-and-events/childrens-arts-and-crafts-12/
LOCATION:West Ealing Community Library\, Melbourne Ave\, West Ealing\, London\, W13 9BT\, United Kingdom
CATEGORIES:Activities,Art and craft,Kids
ATTACH;FMTTYPE=image/png:https://wecl.org.uk/wp-content/uploads/2024/08/Green-Blue-ColorPlayful-Craft-Class-for-Kids-Classroom-Poster.png
END:VEVENT
BEGIN:VEVENT
DTSTART;TZID=UTC:20241219T103000
DTEND;TZID=UTC:20241219T114500
DTSTAMP:20260426T020954
CREATED:20241121T104851Z
LAST-MODIFIED:20241121T104851Z
UID:10000149-1734604200-1734608700@wecl.org.uk
SUMMARY:Children's Arts and Crafts
DESCRIPTION:🖍️✂️ Children’s Arts and Crafts at West Ealing Library! ✂️🖍️ \nGet creative with us every Thursday and let your little ones enjoy a fun-filled arts and crafts session! \n🗓 When: Thursdays\n🕒 Time: 10:30 AM – 11:45 AM\n📍 Where: West Ealing Library\, Melbourne Avenue \nJoin us for a morning of imaginative activities and hands-on projects. Perfect for kids to explore their creativity and make new friends! \n  \nFollow Us On: \n\nWebsite\nInstagram\nFacebook\nX (Twitter)\nLinkedIn
URL:https://wecl.org.uk/activities-and-events/childrens-arts-and-crafts-11/
LOCATION:West Ealing Community Library\, Melbourne Ave\, West Ealing\, London\, W13 9BT\, United Kingdom
CATEGORIES:Activities,Art and craft,Kids
ATTACH;FMTTYPE=image/png:https://wecl.org.uk/wp-content/uploads/2024/08/Green-Blue-ColorPlayful-Craft-Class-for-Kids-Classroom-Poster.png
END:VEVENT
BEGIN:VEVENT
DTSTART;TZID=UTC:20241212T103000
DTEND;TZID=UTC:20241212T114500
DTSTAMP:20260426T020954
CREATED:20241121T104840Z
LAST-MODIFIED:20241121T104840Z
UID:10000146-1733999400-1734003900@wecl.org.uk
SUMMARY:Children's Arts and Crafts
DESCRIPTION:🖍️✂️ Children’s Arts and Crafts at West Ealing Library! ✂️🖍️ \nGet creative with us every Thursday and let your little ones enjoy a fun-filled arts and crafts session! \n🗓 When: Thursdays\n🕒 Time: 10:30 AM – 11:45 AM\n📍 Where: West Ealing Library\, Melbourne Avenue \nJoin us for a morning of imaginative activities and hands-on projects. Perfect for kids to explore their creativity and make new friends! \n  \nFollow Us On: \n\nWebsite\nInstagram\nFacebook\nX (Twitter)\nLinkedIn
URL:https://wecl.org.uk/activities-and-events/childrens-arts-and-crafts-10/
LOCATION:West Ealing Community Library\, Melbourne Ave\, West Ealing\, London\, W13 9BT\, United Kingdom
CATEGORIES:Activities,Art and craft,Kids
ATTACH;FMTTYPE=image/png:https://wecl.org.uk/wp-content/uploads/2024/08/Green-Blue-ColorPlayful-Craft-Class-for-Kids-Classroom-Poster.png
END:VEVENT
BEGIN:VEVENT
DTSTART;TZID=UTC:20241205T103000
DTEND;TZID=UTC:20241205T114500
DTSTAMP:20260426T020954
CREATED:20241121T104832Z
LAST-MODIFIED:20241121T104832Z
UID:10000147-1733394600-1733399100@wecl.org.uk
SUMMARY:Children's Arts and Crafts
DESCRIPTION:🖍️✂️ Children’s Arts and Crafts at West Ealing Library! ✂️🖍️ \nGet creative with us every Thursday and let your little ones enjoy a fun-filled arts and crafts session! \n🗓 When: Thursdays\n🕒 Time: 10:30 AM – 11:45 AM\n📍 Where: West Ealing Library\, Melbourne Avenue \nJoin us for a morning of imaginative activities and hands-on projects. Perfect for kids to explore their creativity and make new friends! \n  \nFollow Us On: \n\nWebsite\nInstagram\nFacebook\nX (Twitter)\nLinkedIn
URL:https://wecl.org.uk/activities-and-events/childrens-arts-and-crafts-9/
LOCATION:West Ealing Community Library\, Melbourne Ave\, West Ealing\, London\, W13 9BT\, United Kingdom
CATEGORIES:Activities,Art and craft,Kids
ATTACH;FMTTYPE=image/png:https://wecl.org.uk/wp-content/uploads/2024/08/Green-Blue-ColorPlayful-Craft-Class-for-Kids-Classroom-Poster.png
END:VEVENT
BEGIN:VEVENT
DTSTART;TZID=UTC:20241128T103000
DTEND;TZID=UTC:20241128T114500
DTSTAMP:20260426T020954
CREATED:20241121T104819Z
LAST-MODIFIED:20241121T104819Z
UID:10000145-1732789800-1732794300@wecl.org.uk
SUMMARY:Children's Arts and Crafts
DESCRIPTION:🖍️✂️ Children’s Arts and Crafts at West Ealing Library! ✂️🖍️ \nGet creative with us every Thursday and let your little ones enjoy a fun-filled arts and crafts session! \n🗓 When: Thursdays\n🕒 Time: 10:30 AM – 11:45 AM\n📍 Where: West Ealing Library\, Melbourne Avenue \nJoin us for a morning of imaginative activities and hands-on projects. Perfect for kids to explore their creativity and make new friends! \n  \nFollow Us On: \n\nWebsite\nInstagram\nFacebook\nX (Twitter)\nLinkedIn
URL:https://wecl.org.uk/activities-and-events/childrens-arts-and-crafts-8/
LOCATION:West Ealing Community Library\, Melbourne Ave\, West Ealing\, London\, W13 9BT\, United Kingdom
CATEGORIES:Activities,Art and craft,Kids
ATTACH;FMTTYPE=image/png:https://wecl.org.uk/wp-content/uploads/2024/08/Green-Blue-ColorPlayful-Craft-Class-for-Kids-Classroom-Poster.png
END:VEVENT
BEGIN:VEVENT
DTSTART;TZID=UTC:20240926T103000
DTEND;TZID=UTC:20240926T114500
DTSTAMP:20260426T020954
CREATED:20240816T102628Z
LAST-MODIFIED:20240816T102628Z
UID:10000043-1727346600-1727351100@wecl.org.uk
SUMMARY:Children's Arts and Crafts
DESCRIPTION:🖍️✂️ Children’s Arts and Crafts at West Ealing Library! ✂️🖍️ \nGet creative with us every Thursday and let your little ones enjoy a fun-filled arts and crafts session! \n🗓 When: Thursdays\n🕒 Time: 10:30 AM – 11:45 AM\n📍 Where: West Ealing Library\, Melbourne Avenue \nJoin us for a morning of imaginative activities and hands-on projects. Perfect for kids to explore their creativity and make new friends! \n  \nFollow Us On: \n\nWebsite\nInstagram\nFacebook\nX (Twitter)\nLinkedIn
URL:https://wecl.org.uk/activities-and-events/childrens-arts-and-crafts-7/
LOCATION:West Ealing Community Library\, Melbourne Ave\, West Ealing\, London\, W13 9BT\, United Kingdom
CATEGORIES:Activities,Art and craft,Kids
ATTACH;FMTTYPE=image/png:https://wecl.org.uk/wp-content/uploads/2024/08/Green-Blue-ColorPlayful-Craft-Class-for-Kids-Classroom-Poster.png
END:VEVENT
BEGIN:VEVENT
DTSTART;TZID=UTC:20240919T103000
DTEND;TZID=UTC:20240919T114500
DTSTAMP:20260426T020954
CREATED:20240816T102617Z
LAST-MODIFIED:20240816T102617Z
UID:10000042-1726741800-1726746300@wecl.org.uk
SUMMARY:Children's Arts and Crafts
DESCRIPTION:🖍️✂️ Children’s Arts and Crafts at West Ealing Library! ✂️🖍️ \nGet creative with us every Thursday and let your little ones enjoy a fun-filled arts and crafts session! \n🗓 When: Thursdays\n🕒 Time: 10:30 AM – 11:45 AM\n📍 Where: West Ealing Library\, Melbourne Avenue \nJoin us for a morning of imaginative activities and hands-on projects. Perfect for kids to explore their creativity and make new friends! \n  \nFollow Us On: \n\nWebsite\nInstagram\nFacebook\nX (Twitter)\nLinkedIn
URL:https://wecl.org.uk/activities-and-events/childrens-arts-and-crafts-6/
LOCATION:West Ealing Community Library\, Melbourne Ave\, West Ealing\, London\, W13 9BT\, United Kingdom
CATEGORIES:Activities,Art and craft,Kids
ATTACH;FMTTYPE=image/png:https://wecl.org.uk/wp-content/uploads/2024/08/Green-Blue-ColorPlayful-Craft-Class-for-Kids-Classroom-Poster.png
END:VEVENT
BEGIN:VEVENT
DTSTART;TZID=UTC:20240912T103000
DTEND;TZID=UTC:20240912T114500
DTSTAMP:20260426T020954
CREATED:20240816T102605Z
LAST-MODIFIED:20240816T102605Z
UID:10000041-1726137000-1726141500@wecl.org.uk
SUMMARY:Children's Arts and Crafts
DESCRIPTION:🖍️✂️ Children’s Arts and Crafts at West Ealing Library! ✂️🖍️ \nGet creative with us every Thursday and let your little ones enjoy a fun-filled arts and crafts session! \n🗓 When: Thursdays\n🕒 Time: 10:30 AM – 11:45 AM\n📍 Where: West Ealing Library\, Melbourne Avenue \nJoin us for a morning of imaginative activities and hands-on projects. Perfect for kids to explore their creativity and make new friends! \n  \nFollow Us On: \n\nWebsite\nInstagram\nFacebook\nX (Twitter)\nLinkedIn
URL:https://wecl.org.uk/activities-and-events/childrens-arts-and-crafts-5/
LOCATION:West Ealing Community Library\, Melbourne Ave\, West Ealing\, London\, W13 9BT\, United Kingdom
CATEGORIES:Activities,Art and craft,Kids
ATTACH;FMTTYPE=image/png:https://wecl.org.uk/wp-content/uploads/2024/08/Green-Blue-ColorPlayful-Craft-Class-for-Kids-Classroom-Poster.png
END:VEVENT
BEGIN:VEVENT
DTSTART;TZID=UTC:20240905T103000
DTEND;TZID=UTC:20240905T114500
DTSTAMP:20260426T020954
CREATED:20240816T102555Z
LAST-MODIFIED:20240816T102555Z
UID:10000039-1725532200-1725536700@wecl.org.uk
SUMMARY:Children's Arts and Crafts
DESCRIPTION:🖍️✂️ Children’s Arts and Crafts at West Ealing Library! ✂️🖍️ \nGet creative with us every Thursday and let your little ones enjoy a fun-filled arts and crafts session! \n🗓 When: Thursdays\n🕒 Time: 10:30 AM – 11:45 AM\n📍 Where: West Ealing Library\, Melbourne Avenue \nJoin us for a morning of imaginative activities and hands-on projects. Perfect for kids to explore their creativity and make new friends! \n  \nFollow Us On: \n\nWebsite\nInstagram\nFacebook\nX (Twitter)\nLinkedIn
URL:https://wecl.org.uk/activities-and-events/childrens-arts-and-crafts-4/
LOCATION:West Ealing Community Library\, Melbourne Ave\, West Ealing\, London\, W13 9BT\, United Kingdom
CATEGORIES:Activities,Art and craft,Kids
ATTACH;FMTTYPE=image/png:https://wecl.org.uk/wp-content/uploads/2024/08/Green-Blue-ColorPlayful-Craft-Class-for-Kids-Classroom-Poster.png
END:VEVENT
BEGIN:VEVENT
DTSTART;TZID=UTC:20240829T103000
DTEND;TZID=UTC:20240829T114500
DTSTAMP:20260426T020954
CREATED:20240816T102331Z
LAST-MODIFIED:20240816T102344Z
UID:10000036-1724927400-1724931900@wecl.org.uk
SUMMARY:Children's Arts and Crafts
DESCRIPTION:🖍️✂️ Children’s Arts and Crafts at West Ealing Library! ✂️🖍️ \nGet creative with us every Thursday and let your little ones enjoy a fun-filled arts and crafts session! \n🗓 When: Thursdays\n🕒 Time: 10:30 AM – 11:45 AM\n📍 Where: West Ealing Library\, Melbourne Avenue \nJoin us for a morning of imaginative activities and hands-on projects. Perfect for kids to explore their creativity and make new friends! \n  \nFollow Us On: \n\nWebsite\nInstagram\nFacebook\nX (Twitter)\nLinkedIn
URL:https://wecl.org.uk/activities-and-events/childrens-arts-and-crafts-3/
LOCATION:West Ealing Community Library\, Melbourne Ave\, West Ealing\, London\, W13 9BT\, United Kingdom
CATEGORIES:Activities,Art and craft,Kids
ATTACH;FMTTYPE=image/png:https://wecl.org.uk/wp-content/uploads/2024/08/Green-Blue-ColorPlayful-Craft-Class-for-Kids-Classroom-Poster.png
END:VEVENT
BEGIN:VEVENT
DTSTART;TZID=UTC:20240827T103000
DTEND;TZID=UTC:20240827T120000
DTSTAMP:20260426T020954
CREATED:20240816T110157Z
LAST-MODIFIED:20240827T091509Z
UID:10000059-1724754600-1724760000@wecl.org.uk
SUMMARY:Junior's Art and Crafts
DESCRIPTION:Junior’s Art and Crafts at West Ealing Library! \n\n\nAttention 8-11 year olds! Join us for Junior’s Art and Crafts every Tuesday this August and let your creativity shine!\n\n\n When: Tuesdays: August 13\, 20\, and 27\n Time: 10:30 AM – 12:00 PM\n Where: West Ealing Library\, Melbourne Avenue\n\n\nWhat to Expect:\n\n\nFun colouring and drawing activities\nExciting crafts and more\nA chance to explore your artistic talents\nPerfect for kids who love to create and have fun. Don’t miss out on this creative adventure!\n\n\nCome and let your imagination soar! \n\n\nFollow Us On: \n\nWebsite\nInstagram\nFacebook\nX (Twitter)\nLinkedIn
URL:https://wecl.org.uk/activities-and-events/juniors-art-and-crafts-3/
LOCATION:West Ealing Community Library\, Melbourne Ave\, West Ealing\, London\, W13 9BT\, United Kingdom
CATEGORIES:Activities,Art and craft,Hobbies and games Event
ATTACH;FMTTYPE=image/png:https://wecl.org.uk/wp-content/uploads/2024/08/Brown-Green-Artistic-Colorful-Illustration-Art-Workshop-Flyer-Instagram-Post.png
END:VEVENT
BEGIN:VEVENT
DTSTART;TZID=UTC:20240822T103000
DTEND;TZID=UTC:20240822T114500
DTSTAMP:20260426T020954
CREATED:20240816T102202Z
LAST-MODIFIED:20240816T102202Z
UID:10000035-1724322600-1724327100@wecl.org.uk
SUMMARY:Children's Arts and Crafts
DESCRIPTION:🖍️✂️ Children’s Arts and Crafts at West Ealing Library! ✂️🖍️ \nGet creative with us every Thursday and let your little ones enjoy a fun-filled arts and crafts session! \n🗓 When: Thursdays\n🕒 Time: 10:30 AM – 11:45 AM\n📍 Where: West Ealing Library\, Melbourne Avenue \nJoin us for a morning of imaginative activities and hands-on projects. Perfect for kids to explore their creativity and make new friends! \n  \nFollow Us On: \n\nWebsite\nInstagram\nFacebook\nX (Twitter)\nLinkedIn
URL:https://wecl.org.uk/activities-and-events/childrens-arts-and-crafts-2/
LOCATION:West Ealing Community Library\, Melbourne Ave\, West Ealing\, London\, W13 9BT\, United Kingdom
CATEGORIES:Activities,Art and craft,Kids
ATTACH;FMTTYPE=image/png:https://wecl.org.uk/wp-content/uploads/2024/08/Green-Blue-ColorPlayful-Craft-Class-for-Kids-Classroom-Poster.png
END:VEVENT
BEGIN:VEVENT
DTSTART;TZID=UTC:20240815T103000
DTEND;TZID=UTC:20240815T114500
DTSTAMP:20260426T020954
CREATED:20240815T105445Z
LAST-MODIFIED:20240816T101546Z
UID:10000022-1723717800-1723722300@wecl.org.uk
SUMMARY:Children's Arts and Crafts
DESCRIPTION:🖍️✂️ Children’s Arts and Crafts at West Ealing Library! ✂️🖍️ \nGet creative with us every Thursday and let your little ones enjoy a fun-filled arts and crafts session! \n🗓 When: Thursdays\n🕒 Time: 10:30 AM – 11:45 AM\n📍 Where: West Ealing Library\, Melbourne Avenue \nJoin us for a morning of imaginative activities and hands-on projects. Perfect for kids to explore their creativity and make new friends! \n  \nFollow Us On: \n\nWebsite\nInstagram\nFacebook\nX (Twitter)\nLinkedIn
URL:https://wecl.org.uk/activities-and-events/childrens-arts-and-crafts/
LOCATION:West Ealing Community Library\, Melbourne Ave\, West Ealing\, London\, W13 9BT\, United Kingdom
CATEGORIES:Activities,Art and craft,Kids
ATTACH;FMTTYPE=image/png:https://wecl.org.uk/wp-content/uploads/2024/08/Green-Blue-ColorPlayful-Craft-Class-for-Kids-Classroom-Poster.png
END:VEVENT
END:VCALENDAR