BEGIN:VCALENDAR
VERSION:2.0
PRODID:-//West Ealing Library - ECPv6.15.20//NONSGML v1.0//EN
CALSCALE:GREGORIAN
METHOD:PUBLISH
X-ORIGINAL-URL:https://wecl.org.uk
X-WR-CALDESC:Events for West Ealing Library
REFRESH-INTERVAL;VALUE=DURATION:PT1H
X-Robots-Tag:noindex
X-PUBLISHED-TTL:PT1H
BEGIN:VTIMEZONE
TZID:UTC
BEGIN:STANDARD
TZOFFSETFROM:+0000
TZOFFSETTO:+0000
TZNAME:UTC
DTSTART:20240101T000000
END:STANDARD
END:VTIMEZONE
BEGIN:VEVENT
DTSTART;TZID=UTC:20250114T140000
DTEND;TZID=UTC:20250114T150000
DTSTAMP:20260421T162615
CREATED:20250110T223252Z
LAST-MODIFIED:20250110T223332Z
UID:10000222-1736863200-1736866800@wecl.org.uk
SUMMARY:Next Book Club
DESCRIPTION:Join Our Book Club! 📚✨ \nReady to discover your next great read? Join us on Tuesday\, January 14th for our next book club meeting! \nWe’ll be exploring “The German Boy by Patricia Wastvedt. 📖 This is your chance to dive into engaging discussions and connect with fellow book enthusiasts. \nOur book club meets on the second Tuesday of every month\, and we’d love for you to be part of it! Visit the library to grab your copy and join us for an inspiring evening of literary exploration. \nPick up your copy at the library and get ready for a delightful evening of reading and sharing! \n  \nFollow Us On: \n\nWebsite\nInstagram\nFacebook\nX (Twitter)\nLinkedIn
URL:https://wecl.org.uk/activities-and-events/next-book-club-3/
LOCATION:West Ealing Community Library\, Melbourne Ave\, West Ealing\, London\, W13 9BT\, United Kingdom
CATEGORIES:Activities,Adults,Book Club
END:VEVENT
BEGIN:VEVENT
DTSTART;TZID=UTC:20250114T140000
DTEND;TZID=UTC:20250114T160000
DTSTAMP:20260421T162615
CREATED:20250110T222521Z
LAST-MODIFIED:20250110T223117Z
UID:10000221-1736863200-1736870400@wecl.org.uk
SUMMARY:Ealing Repair Café
DESCRIPTION:🧵✨ Join our Ealing Repair Café for Patch\, Darn & Natter meetups!✨🧵 \nAre you looking to learn how to mend your clothes while enjoying a friendly chat? Join us for our “Patch\, Darn & Natter” meetup\, where you can discover the art of clothing repair! \n🗓 Schedule: Tuesday\, 8th of October 2024\n2 PM to 4 PM \n📍 Location: West Ealing Community Library\, Melbourne Avenue \nWhat to Expect: \nHand sewing equipment\, thread\, and fabric for patches will be available to borrow or buy.\nGet inspired by our samples and examples of mends.\nConnect with fellow repair enthusiasts and share tips. \nDon’t miss this opportunity to give your clothes a new lease on life and embrace sustainable fashion! \n🧵✨ Let’s mend together! ✨🧵
URL:https://wecl.org.uk/activities-and-events/ealing-repair-cafe-3/
LOCATION:West Ealing Community Library\, Melbourne Ave\, West Ealing\, London\, W13 9BT\, United Kingdom
CATEGORIES:Ealing Repair Café
ATTACH;FMTTYPE=image/png:https://wecl.org.uk/wp-content/uploads/2025/01/Copy-of-Colourful-Sewing-Quote-Instagram-Post.png
END:VEVENT
END:VCALENDAR